BEGIN:VCALENDAR
VERSION:2.0
PRODID:-//Southland Casino - ECPv6.15.16//NONSGML v1.0//EN
CALSCALE:GREGORIAN
METHOD:PUBLISH
X-WR-CALNAME:Southland Casino
X-ORIGINAL-URL:https://www.southlandcasino.com
X-WR-CALDESC:Events for Southland Casino
REFRESH-INTERVAL;VALUE=DURATION:PT1H
X-Robots-Tag:noindex
X-PUBLISHED-TTL:PT1H
BEGIN:VTIMEZONE
TZID:UTC
BEGIN:STANDARD
TZOFFSETFROM:+0000
TZOFFSETTO:+0000
TZNAME:UTC
DTSTART:20230101T000000
END:STANDARD
END:VTIMEZONE
BEGIN:VTIMEZONE
TZID:America/Chicago
BEGIN:DAYLIGHT
TZOFFSETFROM:-0600
TZOFFSETTO:-0500
TZNAME:CDT
DTSTART:20230312T080000
END:DAYLIGHT
BEGIN:STANDARD
TZOFFSETFROM:-0500
TZOFFSETTO:-0600
TZNAME:CST
DTSTART:20231105T070000
END:STANDARD
BEGIN:DAYLIGHT
TZOFFSETFROM:-0600
TZOFFSETTO:-0500
TZNAME:CDT
DTSTART:20240310T080000
END:DAYLIGHT
BEGIN:STANDARD
TZOFFSETFROM:-0500
TZOFFSETTO:-0600
TZNAME:CST
DTSTART:20241103T070000
END:STANDARD
BEGIN:DAYLIGHT
TZOFFSETFROM:-0600
TZOFFSETTO:-0500
TZNAME:CDT
DTSTART:20250309T080000
END:DAYLIGHT
BEGIN:STANDARD
TZOFFSETFROM:-0500
TZOFFSETTO:-0600
TZNAME:CST
DTSTART:20251102T070000
END:STANDARD
END:VTIMEZONE
BEGIN:VEVENT
DTSTART;TZID=UTC:20241003T170000
DTEND;TZID=UTC:20241003T220000
DTSTAMP:20260419T162034
CREATED:20240913T185717Z
LAST-MODIFIED:20241022T125050Z
UID:10001191-1727974800-1727992800@www.southlandcasino.com
SUMMARY:Thirsty Thursday Drawings
DESCRIPTION:Thursdays | 5pm – 10pm\n27 winners guaranteed to win $500 in cash!\nEarn 25 points\, get One Free Drink ticket. \nEarn 75 points\, get one additional Free Drink ticket. \n\nOne drawing entry for every 50 points earned each Thursday. Activate your entries by inserting your Lucky North® Club card into any slot machine or carding in at a table game. Max 2 free drink tickets per week.
URL:https://www.southlandcasino.com/event/thirsty-thursday-drawings-3/2024-10-03/
CATEGORIES:Casino Gaming Promos,Dining,Poker Promotion
ATTACH;FMTTYPE=image/jpeg:https://www.southlandcasino.com/wp-content/uploads/2024/10/Southland-ThirstyThursdasy-Promo.jpg
END:VEVENT
BEGIN:VEVENT
DTSTART;TZID=UTC:20241010T170000
DTEND;TZID=UTC:20241010T220000
DTSTAMP:20260419T162034
CREATED:20240913T185717Z
LAST-MODIFIED:20241022T125050Z
UID:10003713-1728579600-1728597600@www.southlandcasino.com
SUMMARY:Thirsty Thursday Drawings
DESCRIPTION:Thursdays | 5pm – 10pm\n27 winners guaranteed to win $500 in cash!\nEarn 25 points\, get One Free Drink ticket. \nEarn 75 points\, get one additional Free Drink ticket. \n\nOne drawing entry for every 50 points earned each Thursday. Activate your entries by inserting your Lucky North® Club card into any slot machine or carding in at a table game. Max 2 free drink tickets per week.
URL:https://www.southlandcasino.com/event/thirsty-thursday-drawings-3/2024-10-10/
CATEGORIES:Casino Gaming Promos,Dining,Poker Promotion
ATTACH;FMTTYPE=image/jpeg:https://www.southlandcasino.com/wp-content/uploads/2024/10/Southland-ThirstyThursdasy-Promo.jpg
END:VEVENT
BEGIN:VEVENT
DTSTART;TZID=UTC:20241017T170000
DTEND;TZID=UTC:20241017T220000
DTSTAMP:20260419T162034
CREATED:20240913T185717Z
LAST-MODIFIED:20241022T125050Z
UID:10003714-1729184400-1729202400@www.southlandcasino.com
SUMMARY:Thirsty Thursday Drawings
DESCRIPTION:Thursdays | 5pm – 10pm\n27 winners guaranteed to win $500 in cash!\nEarn 25 points\, get One Free Drink ticket. \nEarn 75 points\, get one additional Free Drink ticket. \n\nOne drawing entry for every 50 points earned each Thursday. Activate your entries by inserting your Lucky North® Club card into any slot machine or carding in at a table game. Max 2 free drink tickets per week.
URL:https://www.southlandcasino.com/event/thirsty-thursday-drawings-3/2024-10-17/
CATEGORIES:Casino Gaming Promos,Dining,Poker Promotion
ATTACH;FMTTYPE=image/jpeg:https://www.southlandcasino.com/wp-content/uploads/2024/10/Southland-ThirstyThursdasy-Promo.jpg
END:VEVENT
BEGIN:VEVENT
DTSTART;TZID=UTC:20241024T170000
DTEND;TZID=UTC:20241024T220000
DTSTAMP:20260419T162034
CREATED:20240913T185717Z
LAST-MODIFIED:20241022T125050Z
UID:10003715-1729789200-1729807200@www.southlandcasino.com
SUMMARY:Thirsty Thursday Drawings
DESCRIPTION:Thursdays | 5pm – 10pm\n27 winners guaranteed to win $500 in cash!\nEarn 25 points\, get One Free Drink ticket. \nEarn 75 points\, get one additional Free Drink ticket. \n\nOne drawing entry for every 50 points earned each Thursday. Activate your entries by inserting your Lucky North® Club card into any slot machine or carding in at a table game. Max 2 free drink tickets per week.
URL:https://www.southlandcasino.com/event/thirsty-thursday-drawings-3/2024-10-24/
CATEGORIES:Casino Gaming Promos,Dining,Poker Promotion
ATTACH;FMTTYPE=image/jpeg:https://www.southlandcasino.com/wp-content/uploads/2024/10/Southland-ThirstyThursdasy-Promo.jpg
END:VEVENT
BEGIN:VEVENT
DTSTART;TZID=America/Chicago:20241025T190000
DTEND;TZID=America/Chicago:20241025T220000
DTSTAMP:20260419T162034
CREATED:20241018T173216Z
LAST-MODIFIED:20241018T173658Z
UID:10003762-1729882800-1729893600@www.southlandcasino.com
SUMMARY:Light up a win with the PEPSI® x Lucky Lever Pull!
DESCRIPTION:Friday\, October 25 | 7pm – 10pm at Charred Oak Join us at Southland for the PEPSI® x Lucky Lever Pull on Friday\, October 25\, from 7pm to 10pm at Charred Oak! Simply swipe your Lucky North® Club card at any promotional kiosk for your chance to be selected to pull the Lucky Lever on the Better With PEPSI® machine! If you receive a chance to play\, print your voucher and head over to Charred Oak! You could win exciting prizes like a hotel stay\, food credits\, or exclusive PEPSI® swag! And\, between 7-8pm on Friday\, Celebrity Chef Tobias Dorzon—as seen on Chopped and Tournament of Champions – will be on hand to kick off the event! Don’t miss out on this fun-filled evening! Also be sure to stop by the  to enjoy our Honey Aleppo Home Place Pasture Ribs\, slow-cooked to tenderness and glazed with a sweet and spicy honey Aleppo sauce. Served with flavorful Kimchi Collard Greens\, creamy Cornflake Mac and Cheese\, and a slice of warm Sweet Cornbread\, this dish brings together comforting Southern flavors in every bite and is even Better With PEPSI®. Available 10/25 – 10/27\, only. $29. Must be present to win.
URL:https://www.southlandcasino.com/event/pepsi-x-lucky-lever-pull/
CATEGORIES:Poker Promotion
ATTACH;FMTTYPE=image/jpeg:https://www.southlandcasino.com/wp-content/uploads/2024/10/Southland-BetterWithPepsi-Promo.jpg
END:VEVENT
BEGIN:VEVENT
DTSTART;TZID=UTC:20241031T170000
DTEND;TZID=UTC:20241031T220000
DTSTAMP:20260419T162034
CREATED:20240913T185717Z
LAST-MODIFIED:20241022T125050Z
UID:10003716-1730394000-1730412000@www.southlandcasino.com
SUMMARY:Thirsty Thursday Drawings
DESCRIPTION:Thursdays | 5pm – 10pm\n27 winners guaranteed to win $500 in cash!\nEarn 25 points\, get One Free Drink ticket. \nEarn 75 points\, get one additional Free Drink ticket. \n\nOne drawing entry for every 50 points earned each Thursday. Activate your entries by inserting your Lucky North® Club card into any slot machine or carding in at a table game. Max 2 free drink tickets per week.
URL:https://www.southlandcasino.com/event/thirsty-thursday-drawings-3/2024-10-31/
CATEGORIES:Casino Gaming Promos,Dining,Poker Promotion
ATTACH;FMTTYPE=image/jpeg:https://www.southlandcasino.com/wp-content/uploads/2024/10/Southland-ThirstyThursdasy-Promo.jpg
END:VEVENT
END:VCALENDAR