BEGIN:VCALENDAR
VERSION:2.0
PRODID:-//Southland Casino - ECPv6.15.16//NONSGML v1.0//EN
CALSCALE:GREGORIAN
METHOD:PUBLISH
X-ORIGINAL-URL:https://www.southlandcasino.com
X-WR-CALDESC:Events for Southland Casino
REFRESH-INTERVAL;VALUE=DURATION:PT1H
X-Robots-Tag:noindex
X-PUBLISHED-TTL:PT1H
BEGIN:VTIMEZONE
TZID:America/Chicago
BEGIN:DAYLIGHT
TZOFFSETFROM:-0600
TZOFFSETTO:-0500
TZNAME:CDT
DTSTART:20240310T080000
END:DAYLIGHT
BEGIN:STANDARD
TZOFFSETFROM:-0500
TZOFFSETTO:-0600
TZNAME:CST
DTSTART:20241103T070000
END:STANDARD
BEGIN:DAYLIGHT
TZOFFSETFROM:-0600
TZOFFSETTO:-0500
TZNAME:CDT
DTSTART:20250309T080000
END:DAYLIGHT
BEGIN:STANDARD
TZOFFSETFROM:-0500
TZOFFSETTO:-0600
TZNAME:CST
DTSTART:20251102T070000
END:STANDARD
BEGIN:DAYLIGHT
TZOFFSETFROM:-0600
TZOFFSETTO:-0500
TZNAME:CDT
DTSTART:20260308T080000
END:DAYLIGHT
BEGIN:STANDARD
TZOFFSETFROM:-0500
TZOFFSETTO:-0600
TZNAME:CST
DTSTART:20261101T070000
END:STANDARD
END:VTIMEZONE
BEGIN:VEVENT
DTSTART;TZID=America/Chicago:20250202T160000
DTEND;TZID=America/Chicago:20250202T210000
DTSTAMP:20260420T194025
CREATED:20250115T142216Z
LAST-MODIFIED:20250115T142445Z
UID:10003783-1738512000-1738530000@www.southlandcasino.com
SUMMARY:Table Games Hot Seat
DESCRIPTION:Sundays in February | 4pm – 9pm\nEach hour\, two table games are selected. \nGuests actively playing on a Lucky North® Rewards card win $200 Table Free Play*—win multiple times! \n\n*Guests without a Lucky North® Rewards card or playing without a card win $100 in Table Play.
URL:https://www.southlandcasino.com/event/table-games-hot-seat-2/2025-02-02/
CATEGORIES:Poker Promotion
ATTACH;FMTTYPE=image/jpeg:https://www.southlandcasino.com/wp-content/uploads/2024/10/Southland-TableGamesHotSeat-Promo.jpg
END:VEVENT
END:VCALENDAR