BEGIN:VCALENDAR
VERSION:2.0
PRODID:-//Southland Casino - ECPv6.15.16//NONSGML v1.0//EN
CALSCALE:GREGORIAN
METHOD:PUBLISH
X-ORIGINAL-URL:https://www.southlandcasino.com
X-WR-CALDESC:Events for Southland Casino
REFRESH-INTERVAL;VALUE=DURATION:PT1H
X-Robots-Tag:noindex
X-PUBLISHED-TTL:PT1H
BEGIN:VTIMEZONE
TZID:America/Chicago
BEGIN:DAYLIGHT
TZOFFSETFROM:-0600
TZOFFSETTO:-0500
TZNAME:CDT
DTSTART:20230312T080000
END:DAYLIGHT
BEGIN:STANDARD
TZOFFSETFROM:-0500
TZOFFSETTO:-0600
TZNAME:CST
DTSTART:20231105T070000
END:STANDARD
BEGIN:DAYLIGHT
TZOFFSETFROM:-0600
TZOFFSETTO:-0500
TZNAME:CDT
DTSTART:20240310T080000
END:DAYLIGHT
BEGIN:STANDARD
TZOFFSETFROM:-0500
TZOFFSETTO:-0600
TZNAME:CST
DTSTART:20241103T070000
END:STANDARD
BEGIN:DAYLIGHT
TZOFFSETFROM:-0600
TZOFFSETTO:-0500
TZNAME:CDT
DTSTART:20250309T080000
END:DAYLIGHT
BEGIN:STANDARD
TZOFFSETFROM:-0500
TZOFFSETTO:-0600
TZNAME:CST
DTSTART:20251102T070000
END:STANDARD
END:VTIMEZONE
BEGIN:VEVENT
DTSTART;VALUE=DATE:20241101
DTEND;VALUE=DATE:20241114
DTSTAMP:20260425T113729
CREATED:20241028T124627Z
LAST-MODIFIED:20241028T125048Z
UID:10003797-1730419200-1731542399@www.southlandcasino.com
SUMMARY:Score College Football Conference Championship Tickets!
DESCRIPTION:Earn entries November 1 to 13 for a chance to win two tickets to the College Championship Game in Atlanta\, GA\, on Saturday\, December 7\, plus $1\,000 in travel expenses. \n\nMust be 21 years or older.
URL:https://www.southlandcasino.com/event/score-college-football-conference-championship-tickets/
CATEGORIES:Casino Gaming Promos
ATTACH;FMTTYPE=image/jpeg:https://www.southlandcasino.com/wp-content/uploads/2024/10/Southland-DrPepperCollegeFootball-Promo.jpg
END:VEVENT
BEGIN:VEVENT
DTSTART;TZID=America/Chicago:20241104T080000
DTEND;TZID=America/Chicago:20241104T220000
DTSTAMP:20260425T113729
CREATED:20240919T181011Z
LAST-MODIFIED:20241022T124513Z
UID:10003764-1730707200-1730757600@www.southlandcasino.com
SUMMARY:Mystery Point Multiplier
DESCRIPTION:Mondays & Wednesdays | 8am – 10pm\nSwipe your Lucky North® Club card at any promotion kiosk to reveal your point multiplier. \n\nSimulcast points not eligible for this promotion. Multiplier points awarded following day.
URL:https://www.southlandcasino.com/event/mystery-point-multiplier-3/2024-11-04/
CATEGORIES:Casino Gaming Promos
ATTACH;FMTTYPE=image/jpeg:https://www.southlandcasino.com/wp-content/uploads/2024/10/Southland-MysteryPointMultiplierNew-Promo.jpg
END:VEVENT
END:VCALENDAR