BEGIN:VCALENDAR
VERSION:2.0
PRODID:-//Southland Casino - ECPv6.15.16//NONSGML v1.0//EN
CALSCALE:GREGORIAN
METHOD:PUBLISH
X-WR-CALNAME:Southland Casino
X-ORIGINAL-URL:https://www.southlandcasino.com
X-WR-CALDESC:Events for Southland Casino
REFRESH-INTERVAL;VALUE=DURATION:PT1H
X-Robots-Tag:noindex
X-PUBLISHED-TTL:PT1H
BEGIN:VTIMEZONE
TZID:UTC
BEGIN:STANDARD
TZOFFSETFROM:+0000
TZOFFSETTO:+0000
TZNAME:UTC
DTSTART:20240101T000000
END:STANDARD
END:VTIMEZONE
BEGIN:VEVENT
DTSTART;TZID=UTC:20250902T190000
DTEND;TZID=UTC:20250902T210000
DTSTAMP:20260425T112014
CREATED:20240329T002355Z
LAST-MODIFIED:20260326T181942Z
UID:10005171-1756839600-1756846800@www.southlandcasino.com
SUMMARY:Tuesday Trivia at Betly Sports Bar & Grill
DESCRIPTION:Tuesdays | 7pm – 9pm\nWin up to $100 in Food Credits! \n\nSign up in the Sports Bar each Tuesday. Must have a Lucky North® Rewards card to receive a prize. Dine in only\, no takeout.
URL:https://www.southlandcasino.com/event/trivia-tuesday-2/2025-09-02/
CATEGORIES:Casino Gaming Promos,Dining
ATTACH;FMTTYPE=image/jpeg:https://www.southlandcasino.com/wp-content/uploads/2024/01/Southland-SportsBarGrill-Trivia-Promo.jpg
END:VEVENT
BEGIN:VEVENT
DTSTART;TZID=UTC:20250903T190000
DTEND;TZID=UTC:20250903T210000
DTSTAMP:20260425T112014
CREATED:20240112T003056Z
LAST-MODIFIED:20260326T182022Z
UID:10005176-1756926000-1756933200@www.southlandcasino.com
SUMMARY:Singo at the Betly Sports Bar & Grill
DESCRIPTION:Wednesdays | 7pm – 9pm\nWin up to $100 in food credits! \n 
URL:https://www.southlandcasino.com/event/singo/2025-09-03/
CATEGORIES:Casino Gaming Promos,Dining
ATTACH;FMTTYPE=image/jpeg:https://www.southlandcasino.com/wp-content/uploads/2024/01/Southland-SportsBarGrill-Singo-Promo.jpg
END:VEVENT
BEGIN:VEVENT
DTSTART;TZID=UTC:20250909T190000
DTEND;TZID=UTC:20250909T210000
DTSTAMP:20260425T112014
CREATED:20240329T002355Z
LAST-MODIFIED:20260326T181942Z
UID:10005172-1757444400-1757451600@www.southlandcasino.com
SUMMARY:Tuesday Trivia at Betly Sports Bar & Grill
DESCRIPTION:Tuesdays | 7pm – 9pm\nWin up to $100 in Food Credits! \n\nSign up in the Sports Bar each Tuesday. Must have a Lucky North® Rewards card to receive a prize. Dine in only\, no takeout.
URL:https://www.southlandcasino.com/event/trivia-tuesday-2/2025-09-09/
CATEGORIES:Casino Gaming Promos,Dining
ATTACH;FMTTYPE=image/jpeg:https://www.southlandcasino.com/wp-content/uploads/2024/01/Southland-SportsBarGrill-Trivia-Promo.jpg
END:VEVENT
BEGIN:VEVENT
DTSTART;TZID=UTC:20250910T190000
DTEND;TZID=UTC:20250910T210000
DTSTAMP:20260425T112014
CREATED:20240112T003056Z
LAST-MODIFIED:20260326T182022Z
UID:10005177-1757530800-1757538000@www.southlandcasino.com
SUMMARY:Singo at the Betly Sports Bar & Grill
DESCRIPTION:Wednesdays | 7pm – 9pm\nWin up to $100 in food credits! \n 
URL:https://www.southlandcasino.com/event/singo/2025-09-10/
CATEGORIES:Casino Gaming Promos,Dining
ATTACH;FMTTYPE=image/jpeg:https://www.southlandcasino.com/wp-content/uploads/2024/01/Southland-SportsBarGrill-Singo-Promo.jpg
END:VEVENT
BEGIN:VEVENT
DTSTART;TZID=UTC:20250916T190000
DTEND;TZID=UTC:20250916T210000
DTSTAMP:20260425T112014
CREATED:20240329T002355Z
LAST-MODIFIED:20260326T181942Z
UID:10005173-1758049200-1758056400@www.southlandcasino.com
SUMMARY:Tuesday Trivia at Betly Sports Bar & Grill
DESCRIPTION:Tuesdays | 7pm – 9pm\nWin up to $100 in Food Credits! \n\nSign up in the Sports Bar each Tuesday. Must have a Lucky North® Rewards card to receive a prize. Dine in only\, no takeout.
URL:https://www.southlandcasino.com/event/trivia-tuesday-2/2025-09-16/
CATEGORIES:Casino Gaming Promos,Dining
ATTACH;FMTTYPE=image/jpeg:https://www.southlandcasino.com/wp-content/uploads/2024/01/Southland-SportsBarGrill-Trivia-Promo.jpg
END:VEVENT
BEGIN:VEVENT
DTSTART;TZID=UTC:20250917T190000
DTEND;TZID=UTC:20250917T210000
DTSTAMP:20260425T112014
CREATED:20240112T003056Z
LAST-MODIFIED:20260326T182022Z
UID:10005178-1758135600-1758142800@www.southlandcasino.com
SUMMARY:Singo at the Betly Sports Bar & Grill
DESCRIPTION:Wednesdays | 7pm – 9pm\nWin up to $100 in food credits! \n 
URL:https://www.southlandcasino.com/event/singo/2025-09-17/
CATEGORIES:Casino Gaming Promos,Dining
ATTACH;FMTTYPE=image/jpeg:https://www.southlandcasino.com/wp-content/uploads/2024/01/Southland-SportsBarGrill-Singo-Promo.jpg
END:VEVENT
BEGIN:VEVENT
DTSTART;TZID=UTC:20250923T190000
DTEND;TZID=UTC:20250923T210000
DTSTAMP:20260425T112014
CREATED:20240329T002355Z
LAST-MODIFIED:20260326T181942Z
UID:10005174-1758654000-1758661200@www.southlandcasino.com
SUMMARY:Tuesday Trivia at Betly Sports Bar & Grill
DESCRIPTION:Tuesdays | 7pm – 9pm\nWin up to $100 in Food Credits! \n\nSign up in the Sports Bar each Tuesday. Must have a Lucky North® Rewards card to receive a prize. Dine in only\, no takeout.
URL:https://www.southlandcasino.com/event/trivia-tuesday-2/2025-09-23/
CATEGORIES:Casino Gaming Promos,Dining
ATTACH;FMTTYPE=image/jpeg:https://www.southlandcasino.com/wp-content/uploads/2024/01/Southland-SportsBarGrill-Trivia-Promo.jpg
END:VEVENT
BEGIN:VEVENT
DTSTART;TZID=UTC:20250924T190000
DTEND;TZID=UTC:20250924T210000
DTSTAMP:20260425T112014
CREATED:20240112T003056Z
LAST-MODIFIED:20260326T182022Z
UID:10005179-1758740400-1758747600@www.southlandcasino.com
SUMMARY:Singo at the Betly Sports Bar & Grill
DESCRIPTION:Wednesdays | 7pm – 9pm\nWin up to $100 in food credits! \n 
URL:https://www.southlandcasino.com/event/singo/2025-09-24/
CATEGORIES:Casino Gaming Promos,Dining
ATTACH;FMTTYPE=image/jpeg:https://www.southlandcasino.com/wp-content/uploads/2024/01/Southland-SportsBarGrill-Singo-Promo.jpg
END:VEVENT
BEGIN:VEVENT
DTSTART;TZID=UTC:20250930T190000
DTEND;TZID=UTC:20250930T210000
DTSTAMP:20260425T112014
CREATED:20240329T002355Z
LAST-MODIFIED:20260326T181942Z
UID:10005175-1759258800-1759266000@www.southlandcasino.com
SUMMARY:Tuesday Trivia at Betly Sports Bar & Grill
DESCRIPTION:Tuesdays | 7pm – 9pm\nWin up to $100 in Food Credits! \n\nSign up in the Sports Bar each Tuesday. Must have a Lucky North® Rewards card to receive a prize. Dine in only\, no takeout.
URL:https://www.southlandcasino.com/event/trivia-tuesday-2/2025-09-30/
CATEGORIES:Casino Gaming Promos,Dining
ATTACH;FMTTYPE=image/jpeg:https://www.southlandcasino.com/wp-content/uploads/2024/01/Southland-SportsBarGrill-Trivia-Promo.jpg
END:VEVENT
END:VCALENDAR