BEGIN:VCALENDAR
VERSION:2.0
PRODID:-//Southland Casino - ECPv6.15.16//NONSGML v1.0//EN
CALSCALE:GREGORIAN
METHOD:PUBLISH
X-WR-CALNAME:Southland Casino
X-ORIGINAL-URL:https://www.southlandcasino.com
X-WR-CALDESC:Events for Southland Casino
REFRESH-INTERVAL;VALUE=DURATION:PT1H
X-Robots-Tag:noindex
X-PUBLISHED-TTL:PT1H
BEGIN:VTIMEZONE
TZID:America/Chicago
BEGIN:DAYLIGHT
TZOFFSETFROM:-0600
TZOFFSETTO:-0500
TZNAME:CDT
DTSTART:20240310T080000
END:DAYLIGHT
BEGIN:STANDARD
TZOFFSETFROM:-0500
TZOFFSETTO:-0600
TZNAME:CST
DTSTART:20241103T070000
END:STANDARD
BEGIN:DAYLIGHT
TZOFFSETFROM:-0600
TZOFFSETTO:-0500
TZNAME:CDT
DTSTART:20250309T080000
END:DAYLIGHT
BEGIN:STANDARD
TZOFFSETFROM:-0500
TZOFFSETTO:-0600
TZNAME:CST
DTSTART:20251102T070000
END:STANDARD
BEGIN:DAYLIGHT
TZOFFSETFROM:-0600
TZOFFSETTO:-0500
TZNAME:CDT
DTSTART:20260308T080000
END:DAYLIGHT
BEGIN:STANDARD
TZOFFSETFROM:-0500
TZOFFSETTO:-0600
TZNAME:CST
DTSTART:20261101T070000
END:STANDARD
END:VTIMEZONE
BEGIN:VEVENT
DTSTART;VALUE=DATE:20250801
DTEND;VALUE=DATE:20251102
DTSTAMP:20260419T100015
CREATED:20250729T201726Z
LAST-MODIFIED:20250909T153844Z
UID:10005132-1754006400-1762041599@www.southlandcasino.com
SUMMARY:What The Truck
DESCRIPTION:September & October\nGrand Prize Drawing | Saturday\, November 1\n\n250 Points = 1 Entry \nEarn and print max 10 entries daily! \nGrand Prize Drawing | Saturday\, November 1 | 6pm – 10pm \n50 Winners are drawn to win share of $60\,000 Free Play or a 2025 Kenworth Truck & Trailer.
URL:https://www.southlandcasino.com/event/what-the-truck/
CATEGORIES:Promotions
ATTACH;FMTTYPE=image/jpeg:https://www.southlandcasino.com/wp-content/uploads/2025/08/GSOU7477_WhatTheTruck_WebPromo_300x250_Aug25_v1.jpg
END:VEVENT
BEGIN:VEVENT
DTSTART;VALUE=DATE:20251001
DTEND;VALUE=DATE:20251101
DTSTAMP:20260419T100015
CREATED:20250925T165700Z
LAST-MODIFIED:20250925T165700Z
UID:10005225-1759276800-1761955199@www.southlandcasino.com
SUMMARY:The Fry House October Special
DESCRIPTION:Italian Stallion Fry Stack $14\nGarlic-parmesan fries with Italian sausage\, roasted red peppers\, basil pesto\, and shredded mozzarella.
URL:https://www.southlandcasino.com/event/the-fry-house-october-special/
CATEGORIES:Dining
ATTACH;FMTTYPE=image/jpeg:https://www.southlandcasino.com/wp-content/uploads/2025/09/GSOU7505_FryHouse_WebPromo_300x250Sept_V1.jpg
END:VEVENT
BEGIN:VEVENT
DTSTART;VALUE=DATE:20251001
DTEND;VALUE=DATE:20251101
DTSTAMP:20260419T100015
CREATED:20250925T165732Z
LAST-MODIFIED:20250925T165732Z
UID:10005224-1759276800-1761955199@www.southlandcasino.com
SUMMARY:Seasons Cafe October Specials
DESCRIPTION:Sausage & Biscuit Skillet $13.50\nA hearty combination of sausage\, roasted potatoes\, and fluffy biscuit pieces baked in creamy gravy. \nSweet Potato Pancakes $12.50\nLightly spiced sweet potato pancakes topped with warm maple syrup and candied pecans.
URL:https://www.southlandcasino.com/event/seasons-cafe-october-specials/
CATEGORIES:Dining
ATTACH;FMTTYPE=image/jpeg:https://www.southlandcasino.com/wp-content/uploads/2025/09/GSOU7505_Seasons_Web-Promo-300x250Sept_V1.jpg
END:VEVENT
BEGIN:VEVENT
DTSTART;VALUE=DATE:20251001
DTEND;VALUE=DATE:20251101
DTSTAMP:20260419T100015
CREATED:20250925T165807Z
LAST-MODIFIED:20250925T165807Z
UID:10005223-1759276800-1761955199@www.southlandcasino.com
SUMMARY:The Grind October Special
DESCRIPTION:Cinnamon Roll Latte \nA cozy blend of espresso\, cinnamon syrup\, and steamed milk\, topped with whipped cream\, cinnamon sugar\, and a drizzle of cream cheese icing. \nRegular | $5.75      Large | $6.75
URL:https://www.southlandcasino.com/event/the-grind-october-special/
CATEGORIES:Dining
ATTACH;FMTTYPE=image/jpeg:https://www.southlandcasino.com/wp-content/uploads/2025/09/GSOU7505_Grind_WebPromo_300x250Sept_V1.jpg
END:VEVENT
BEGIN:VEVENT
DTSTART;TZID=America/Chicago:20251018T120000
DTEND;TZID=America/Chicago:20251018T200000
DTSTAMP:20260419T100015
CREATED:20250925T170049Z
LAST-MODIFIED:20250925T170049Z
UID:10005214-1760788800-1760817600@www.southlandcasino.com
SUMMARY:Point Value Multiplier
DESCRIPTION:Saturdays | Noon – 8pm \n\nSwipe your Lucky North® Rewards card at any promotion kiosk to reveal your point value multiplier. UP TO 10X!
URL:https://www.southlandcasino.com/event/point-value-multiplier/2025-10-18/
CATEGORIES:Promotions
ATTACH;FMTTYPE=image/jpeg:https://www.southlandcasino.com/wp-content/uploads/2025/09/GSOU7505_PointValue_WebPromo_300x250Sept_V1.jpg
END:VEVENT
BEGIN:VEVENT
DTSTART;TZID=America/Chicago:20251018T180000
DTEND;TZID=America/Chicago:20251018T220000
DTSTAMP:20260419T100015
CREATED:20250925T153144Z
LAST-MODIFIED:20250925T153144Z
UID:10005190-1760810400-1760824800@www.southlandcasino.com
SUMMARY:Tiki Trials
DESCRIPTION:Saturdays in October | 6pm – 10pm \n\nWinners share over $100k Free Play or an Island Getaway!\n50 Points = 1 Entry | Earn entries daily \nGrand Prize Drawing | Saturday\, October 25 | 10pm\n5 Winners share $5\,000 Free Play or an all inclusive Island Getaway!
URL:https://www.southlandcasino.com/event/tiki-trials/2025-10-18/
CATEGORIES:Promotions
ATTACH;FMTTYPE=image/jpeg:https://www.southlandcasino.com/wp-content/uploads/2025/09/GSOU7505_TikiTrials_WebPromo_300x250Sept_V1.jpg
END:VEVENT
END:VCALENDAR