BEGIN:VCALENDAR
VERSION:2.0
PRODID:-//Southland Casino - ECPv6.15.16//NONSGML v1.0//EN
CALSCALE:GREGORIAN
METHOD:PUBLISH
X-WR-CALNAME:Southland Casino
X-ORIGINAL-URL:https://www.southlandcasino.com
X-WR-CALDESC:Events for Southland Casino
REFRESH-INTERVAL;VALUE=DURATION:PT1H
X-Robots-Tag:noindex
X-PUBLISHED-TTL:PT1H
BEGIN:VTIMEZONE
TZID:America/Chicago
BEGIN:DAYLIGHT
TZOFFSETFROM:-0600
TZOFFSETTO:-0500
TZNAME:CDT
DTSTART:20240310T080000
END:DAYLIGHT
BEGIN:STANDARD
TZOFFSETFROM:-0500
TZOFFSETTO:-0600
TZNAME:CST
DTSTART:20241103T070000
END:STANDARD
BEGIN:DAYLIGHT
TZOFFSETFROM:-0600
TZOFFSETTO:-0500
TZNAME:CDT
DTSTART:20250309T080000
END:DAYLIGHT
BEGIN:STANDARD
TZOFFSETFROM:-0500
TZOFFSETTO:-0600
TZNAME:CST
DTSTART:20251102T070000
END:STANDARD
BEGIN:DAYLIGHT
TZOFFSETFROM:-0600
TZOFFSETTO:-0500
TZNAME:CDT
DTSTART:20260308T080000
END:DAYLIGHT
BEGIN:STANDARD
TZOFFSETFROM:-0500
TZOFFSETTO:-0600
TZNAME:CST
DTSTART:20261101T070000
END:STANDARD
END:VTIMEZONE
BEGIN:VTIMEZONE
TZID:UTC
BEGIN:STANDARD
TZOFFSETFROM:+0000
TZOFFSETTO:+0000
TZNAME:UTC
DTSTART:20240101T000000
END:STANDARD
END:VTIMEZONE
BEGIN:VEVENT
DTSTART;VALUE=DATE:20250204
DTEND;VALUE=DATE:20250701
DTSTAMP:20260419T071419
CREATED:20250204T154411Z
LAST-MODIFIED:20250514T192441Z
UID:10004084-1738627200-1751327999@www.southlandcasino.com
SUMMARY:The Grind Coffee Bar Monthly Special
DESCRIPTION:Click here to learn about our monthly coffee bar special!
URL:https://www.southlandcasino.com/event/the-grind-coffee-bar-monthly-special/
CATEGORIES:Dining
ATTACH;FMTTYPE=image/jpeg:https://www.southlandcasino.com/wp-content/uploads/2025/02/Southland-CoffeeOfTheMonth_WebPromo_300x250_Feb25_V1-1.jpg
END:VEVENT
BEGIN:VEVENT
DTSTART;VALUE=DATE:20250401
DTEND;VALUE=DATE:20250501
DTSTAMP:20260419T071419
CREATED:20250326T141442Z
LAST-MODIFIED:20250326T141442Z
UID:10004813-1743465600-1746057599@www.southlandcasino.com
SUMMARY:The Fry House - April Special
DESCRIPTION:Fryhouse Fiesta Platter $12 \nCrispy tortilla-cut fries topped with fried chicken strips\, queso blanco\, pico de gallo\, fresh jalapeños\, and a drizzle of cilantro-lime crema. \nCoastal Catch Fries $17 \nBeer-battered cod bites on golden fries\, drizzled with lemon-garlic aioli and served with a side of tangy malt vinegar.
URL:https://www.southlandcasino.com/event/the-fry-house-april-special/
CATEGORIES:Dining,Promotions
ATTACH;FMTTYPE=image/jpeg:https://www.southlandcasino.com/wp-content/uploads/2025/03/Southland-TheFryHouseSpecials-Promo.jpg
END:VEVENT
BEGIN:VEVENT
DTSTART;VALUE=DATE:20250401
DTEND;VALUE=DATE:20250501
DTSTAMP:20260419T071419
CREATED:20250326T141536Z
LAST-MODIFIED:20250326T141536Z
UID:10004812-1743465600-1746057599@www.southlandcasino.com
SUMMARY:Seasons Café - Blossoms & Biscuits April Specials
DESCRIPTION:Lemon Ricotta Pancakes $9.50 \nFluffy pancakes infused with lemon zest\, topped with blueberry compote and powdered sugar. \nTomato Bacon Jam Biscuit $9.88 \nHouse-made tomato bacon jam spread on a buttermilk biscuit\, served with scrambled eggs and a side of hash browns.
URL:https://www.southlandcasino.com/event/seasons-cafe-blossoms-biscuits-april-specials/
CATEGORIES:Dining,Promotions
ATTACH;FMTTYPE=image/jpeg:https://www.southlandcasino.com/wp-content/uploads/2025/03/Southland-SeasonsCafeAprilSpecials-Promo.jpg
END:VEVENT
BEGIN:VEVENT
DTSTART;TZID=America/Chicago:20250409T080000
DTEND;TZID=America/Chicago:20250409T200000
DTSTAMP:20260419T071419
CREATED:20250326T131605Z
LAST-MODIFIED:20251218T184207Z
UID:10004841-1744185600-1744228800@www.southlandcasino.com
SUMMARY:Lucky Legends - Bonus Giveaway
DESCRIPTION:Wednesdays | 8am – 8pmWin Up To $25 in Free Play! Lucky North® Rewards 50+ members\, swipe your card for a mystery bonus – up to $25 in Free Play! Win once per promotional day.
URL:https://www.southlandcasino.com/event/lucky-legends-50-plus-bonus-giveaway/2025-04-09/
CATEGORIES:Promotions
ATTACH;FMTTYPE=image/jpeg:https://www.southlandcasino.com/wp-content/uploads/2025/03/GCORP6774_LNR_LuckyLegends_WebPromo_300x250_Mar25_V1.jpg
END:VEVENT
BEGIN:VEVENT
DTSTART;TZID=UTC:20250409T190000
DTEND;TZID=UTC:20250409T210000
DTSTAMP:20260419T071419
CREATED:20240112T003056Z
LAST-MODIFIED:20260326T182022Z
UID:10004824-1744225200-1744232400@www.southlandcasino.com
SUMMARY:Singo at the Betly Sports Bar & Grill
DESCRIPTION:Wednesdays | 7pm – 9pm\nWin up to $100 in food credits! \n 
URL:https://www.southlandcasino.com/event/singo/2025-04-09/
CATEGORIES:Casino Gaming Promos,Dining
ATTACH;FMTTYPE=image/jpeg:https://www.southlandcasino.com/wp-content/uploads/2024/01/Southland-SportsBarGrill-Singo-Promo.jpg
END:VEVENT
END:VCALENDAR