BEGIN:VCALENDAR
VERSION:2.0
PRODID:-//Southland Casino - ECPv6.15.16//NONSGML v1.0//EN
CALSCALE:GREGORIAN
METHOD:PUBLISH
X-WR-CALNAME:Southland Casino
X-ORIGINAL-URL:https://www.southlandcasino.com
X-WR-CALDESC:Events for Southland Casino
REFRESH-INTERVAL;VALUE=DURATION:PT1H
X-Robots-Tag:noindex
X-PUBLISHED-TTL:PT1H
BEGIN:VTIMEZONE
TZID:America/Chicago
BEGIN:DAYLIGHT
TZOFFSETFROM:-0600
TZOFFSETTO:-0500
TZNAME:CDT
DTSTART:20240310T080000
END:DAYLIGHT
BEGIN:STANDARD
TZOFFSETFROM:-0500
TZOFFSETTO:-0600
TZNAME:CST
DTSTART:20241103T070000
END:STANDARD
BEGIN:DAYLIGHT
TZOFFSETFROM:-0600
TZOFFSETTO:-0500
TZNAME:CDT
DTSTART:20250309T080000
END:DAYLIGHT
BEGIN:STANDARD
TZOFFSETFROM:-0500
TZOFFSETTO:-0600
TZNAME:CST
DTSTART:20251102T070000
END:STANDARD
BEGIN:DAYLIGHT
TZOFFSETFROM:-0600
TZOFFSETTO:-0500
TZNAME:CDT
DTSTART:20260308T080000
END:DAYLIGHT
BEGIN:STANDARD
TZOFFSETFROM:-0500
TZOFFSETTO:-0600
TZNAME:CST
DTSTART:20261101T070000
END:STANDARD
END:VTIMEZONE
BEGIN:VEVENT
DTSTART;VALUE=DATE:20250204
DTEND;VALUE=DATE:20250701
DTSTAMP:20260424T192640
CREATED:20250204T154411Z
LAST-MODIFIED:20250514T192441Z
UID:10004084-1738627200-1751327999@www.southlandcasino.com
SUMMARY:The Grind Coffee Bar Monthly Special
DESCRIPTION:Click here to learn about our monthly coffee bar special!
URL:https://www.southlandcasino.com/event/the-grind-coffee-bar-monthly-special/
CATEGORIES:Dining
ATTACH;FMTTYPE=image/jpeg:https://www.southlandcasino.com/wp-content/uploads/2025/02/Southland-CoffeeOfTheMonth_WebPromo_300x250_Feb25_V1-1.jpg
END:VEVENT
BEGIN:VEVENT
DTSTART;VALUE=DATE:20250301
DTEND;VALUE=DATE:20250401
DTSTAMP:20260424T192640
CREATED:20250225T194315Z
LAST-MODIFIED:20250225T194315Z
UID:10004214-1740787200-1743465599@www.southlandcasino.com
SUMMARY:Seasons Café - Spring Awakens March Specials
DESCRIPTION:Southern Garden Omelet | $14.50\nThree-egg omelet filled with tender asparagus\, cherry tomatoes and creamy pimento cheese\, served with a side of grits. \nSweet Corn Grit Bowl | $12.50\nStone-ground grits topped with roasted corn\, smoked bacon and a poached egg\, garnished with fresh chives.
URL:https://www.southlandcasino.com/event/seasons-cafe-spring-awakens-march-specials/
CATEGORIES:Dining,Promotions
ATTACH;FMTTYPE=image/jpeg:https://www.southlandcasino.com/wp-content/uploads/2025/02/GSOU7217_SeasonsCafeMarch_Web-Promo-300x250_Feb25_v1.jpg
END:VEVENT
BEGIN:VEVENT
DTSTART;VALUE=DATE:20250301
DTEND;VALUE=DATE:20250401
DTSTAMP:20260424T192640
CREATED:20250225T200053Z
LAST-MODIFIED:20250225T200053Z
UID:10004215-1740787200-1743465599@www.southlandcasino.com
SUMMARY:The Fry House - March Special
DESCRIPTION:Available through March\n\n  \nThe Cowboy Fry Stack | $14 \nSweet potato fries layered with pulled brisket\, barbecue sauce\, crispy fried onion strings\, and melted cheddar cheese.
URL:https://www.southlandcasino.com/event/the-fry-house-march-special/
CATEGORIES:Dining,Promotions
ATTACH;FMTTYPE=image/jpeg:https://www.southlandcasino.com/wp-content/uploads/2025/02/GSOU7217_FryHouseMarch_Web-Promo_300x250_Feb25_v1.jpg
END:VEVENT
BEGIN:VEVENT
DTSTART;TZID=America/Chicago:20250307T190000
DTEND;TZID=America/Chicago:20250307T223000
DTSTAMP:20260424T192640
CREATED:20250213T142841Z
LAST-MODIFIED:20250213T142841Z
UID:10004087-1741374000-1741386600@www.southlandcasino.com
SUMMARY:$150\,000 Embrace The Madness Giveaway
DESCRIPTION:Fridays in March | 7pm – 10:30pm\n\n288 Winners Get A Share of $150\,000 in Cash and Free Play!\n2x entries Mondays & Tuesdays \n1 Free Entry Daily | 1 Entry = 50 Points \n7pm – 10pm | 17 hourly winners share $17\,600 Free Play. \n10:30pm | 4 winners share $10\,000 in cash!
URL:https://www.southlandcasino.com/event/150k-embrace-the-madness-giveaway/2025-03-07/
CATEGORIES:Casino Gaming Promos
ATTACH;FMTTYPE=image/jpeg:https://www.southlandcasino.com/wp-content/uploads/2025/02/Southland-150kEmbraceTheMadness-Promo.jpg
END:VEVENT
BEGIN:VEVENT
DTSTART;TZID=America/Chicago:20250307T200000
DTEND;TZID=America/Chicago:20250307T235900
DTSTAMP:20260424T192640
CREATED:20250103T140632Z
LAST-MODIFIED:20250211T191726Z
UID:10004128-1741377600-1741391940@www.southlandcasino.com
SUMMARY:Live Entertainment
DESCRIPTION:Join us every Tuesday from 6pm to 10pm and Friday and Saturday nights from 8pm to midnight for incredible free live entertainment! Click here to see our current line up!
URL:https://www.southlandcasino.com/event/live-entertainment/2025-03-07/
CATEGORIES:Live Entertainment
ATTACH;FMTTYPE=image/jpeg:https://www.southlandcasino.com/wp-content/uploads/2024/12/Southland-Live-Entertainment-Promo.jpg
END:VEVENT
END:VCALENDAR