BEGIN:VCALENDAR
VERSION:2.0
PRODID:-//Southland Casino - ECPv6.15.16//NONSGML v1.0//EN
CALSCALE:GREGORIAN
METHOD:PUBLISH
X-ORIGINAL-URL:https://www.southlandcasino.com
X-WR-CALDESC:Events for Southland Casino
REFRESH-INTERVAL;VALUE=DURATION:PT1H
X-Robots-Tag:noindex
X-PUBLISHED-TTL:PT1H
BEGIN:VTIMEZONE
TZID:America/Chicago
BEGIN:DAYLIGHT
TZOFFSETFROM:-0600
TZOFFSETTO:-0500
TZNAME:CDT
DTSTART:20230312T080000
END:DAYLIGHT
BEGIN:STANDARD
TZOFFSETFROM:-0500
TZOFFSETTO:-0600
TZNAME:CST
DTSTART:20231105T070000
END:STANDARD
BEGIN:DAYLIGHT
TZOFFSETFROM:-0600
TZOFFSETTO:-0500
TZNAME:CDT
DTSTART:20240310T080000
END:DAYLIGHT
BEGIN:STANDARD
TZOFFSETFROM:-0500
TZOFFSETTO:-0600
TZNAME:CST
DTSTART:20241103T070000
END:STANDARD
BEGIN:DAYLIGHT
TZOFFSETFROM:-0600
TZOFFSETTO:-0500
TZNAME:CDT
DTSTART:20250309T080000
END:DAYLIGHT
BEGIN:STANDARD
TZOFFSETFROM:-0500
TZOFFSETTO:-0600
TZNAME:CST
DTSTART:20251102T070000
END:STANDARD
END:VTIMEZONE
BEGIN:VEVENT
DTSTART;VALUE=DATE:20241001
DTEND;VALUE=DATE:20241023
DTSTAMP:20260421T100611
CREATED:20241001T122842Z
LAST-MODIFIED:20241023T120802Z
UID:10003759-1727740800-1729641599@www.southlandcasino.com
SUMMARY:Halloween Getaway Sweepstakes
DESCRIPTION:Enter for your chance to win a Southland Casino Hotel package\, including a one-night stay on Thursday\, October 31\, $150 food credit\, and $100 in Free Play! \nCelebrate Halloween at Southland!
URL:https://www.southlandcasino.com/event/halloween-getaway-sweepstakes/
CATEGORIES:Sweepstakes
ATTACH;FMTTYPE=image/jpeg:https://www.southlandcasino.com/wp-content/uploads/2024/09/Southland-HalloweenSweepstakes-Promo.jpg
END:VEVENT
BEGIN:VEVENT
DTSTART;TZID=America/Chicago:20241012T160000
DTEND;TZID=America/Chicago:20241012T220000
DTSTAMP:20260421T100611
CREATED:20240912T200139Z
LAST-MODIFIED:20241101T123623Z
UID:10003703-1728748800-1728770400@www.southlandcasino.com
SUMMARY:$500k Work Hard\, Play Hard Giveaway
DESCRIPTION:Saturday\, November 2 | 4pm – 10pm\nWin your share of up to $500\,000 in Free Play\, Prizes and a Big Rig\nEarn entries daily\, 3x entries Tuesdays and Thursdays \nYou could be one of five names drawn every hour from 4pm to 10pm to win Free Play. Plus\, every hour from 4:30pm to 9:30pm one name is drawn to win a mystery prize! As the night goes on\, the Free Play increases and the prizes get bigger. \nOne entry for every 250 points earned until November 2. \n\nGrand Prize Drawing\nSaturday\, November 9 | 4pm – 10pm\nYou could be one of five winners drawn every 30 minutes from 4pm to 6:30pm to win a share of $35\,000 in Free Play. One winner is drawn every 30 minutes from 7pm to 9:30pm to win glamping prizes\, a four wheeler\, or a side by side and at 10pm one winner will drive off in a Big Rig! \nOne entry for every 250 points earned until November 9. \n\nSwipe at any promotion kiosk or just play on your Lucky North® Club card each promotional day from 3pm to 9:50pm to activate your electronic entries into the drawings. Swipe at any promotion kiosk November 9 from Noon-9:50pm to print your paper drawing ticket(s) for the Big Rig giveaway on November 9 at 10pm. Drop your paper drawing ticket(s) into the drawing drum located at the Lucky North® Club.
URL:https://www.southlandcasino.com/event/500k-work-hard-play-hard-giveaway/2024-10-12/
CATEGORIES:Casino Gaming Promos
ATTACH;FMTTYPE=image/jpeg:https://www.southlandcasino.com/wp-content/uploads/2024/09/Southland-500k-WorkHardPlayHard-Promo.jpg
END:VEVENT
END:VCALENDAR