BEGIN:VCALENDAR
VERSION:2.0
PRODID:-//Southland Casino - ECPv6.15.16//NONSGML v1.0//EN
CALSCALE:GREGORIAN
METHOD:PUBLISH
X-WR-CALNAME:Southland Casino
X-ORIGINAL-URL:https://www.southlandcasino.com
X-WR-CALDESC:Events for Southland Casino
REFRESH-INTERVAL;VALUE=DURATION:PT1H
X-Robots-Tag:noindex
X-PUBLISHED-TTL:PT1H
BEGIN:VTIMEZONE
TZID:America/Chicago
BEGIN:DAYLIGHT
TZOFFSETFROM:-0600
TZOFFSETTO:-0500
TZNAME:CDT
DTSTART:20250309T080000
END:DAYLIGHT
BEGIN:STANDARD
TZOFFSETFROM:-0500
TZOFFSETTO:-0600
TZNAME:CST
DTSTART:20251102T070000
END:STANDARD
BEGIN:DAYLIGHT
TZOFFSETFROM:-0600
TZOFFSETTO:-0500
TZNAME:CDT
DTSTART:20260308T080000
END:DAYLIGHT
BEGIN:STANDARD
TZOFFSETFROM:-0500
TZOFFSETTO:-0600
TZNAME:CST
DTSTART:20261101T070000
END:STANDARD
BEGIN:DAYLIGHT
TZOFFSETFROM:-0600
TZOFFSETTO:-0500
TZNAME:CDT
DTSTART:20270314T080000
END:DAYLIGHT
BEGIN:STANDARD
TZOFFSETFROM:-0500
TZOFFSETTO:-0600
TZNAME:CST
DTSTART:20271107T070000
END:STANDARD
END:VTIMEZONE
BEGIN:VEVENT
DTSTART;TZID=America/Chicago:20260502T120000
DTEND;TZID=America/Chicago:20260502T180000
DTSTAMP:20260422T120035
CREATED:20260413T144118Z
LAST-MODIFIED:20260413T144118Z
UID:10005580-1777723200-1777744800@www.southlandcasino.com
SUMMARY:152 Kentucky Derby
DESCRIPTION:Saturday\, May 2 | Noon – 6pm \n\nSouthland is the premier place to bet the race. Watch the Derby in style and comfort inside our air-conditioned tent on the big screen. \nEnjoy food\, drinks\, and entertainment. \nShow off your unique style at our Kentucky Derby Hat Contest\, with a first-place prize of $2\,000 Free Play. \nKentucky Derby Hat Contest | Registration Noon-2pm | Judging will begin at 3pm \nHats will be judged on originality\, creativity\, theme\, attractiveness. \nThe top 10 hat contestants win a share of $5\,000 in Free Play. \nFirst Place wins $2\,000 in Free Play.
URL:https://www.southlandcasino.com/event/152-kentucky-derby/
CATEGORIES:Casino Gaming Promos
ATTACH;FMTTYPE=image/jpeg:https://www.southlandcasino.com/wp-content/uploads/2026/04/DN-6356_GSCH_2026_KentuckyDerby_WebPromo_300x250_Apr26_m.jpg
END:VEVENT
BEGIN:VEVENT
DTSTART;TZID=America/Chicago:20260509T080000
DTEND;TZID=America/Chicago:20260509T170000
DTSTAMP:20260422T120035
CREATED:20260326T173957Z
LAST-MODIFIED:20260326T173957Z
UID:10005546-1778313600-1778346000@www.southlandcasino.com
SUMMARY:$400k Cruisin' Into Summer
DESCRIPTION:Saturdays in May & June | 7pm – 11pm \n\nOne free entry daily | 500 Points = 1 Entry (Max 10)\nEarn Entries April 1 – June 27 \nDrawings Every Saturday In May & June\n450 hourly winners share over $400k Free Play & Prizes \nStart Cruisin’ Drawing\nSaturday\, May 2 | 11pm\n10 Members will be drawn to win a share of 10\,000 in Free Play or a 2025 Ford Mustang GT Premium 60th Anniversary Edition. \nGrand Prize Drawings | 11pm\nSaturday\, May 30 & Saturday\, June 27\n10 members will be drawn to win a share of $10\,000 Free Play or a 2026 Mini Cooper Convertible.
URL:https://www.southlandcasino.com/event/400k-cruisin-into-summer/2026-05-09/
CATEGORIES:Casino Gaming Promos
ATTACH;FMTTYPE=image/jpeg:https://www.southlandcasino.com/wp-content/uploads/2026/03/DN-4596_GSCH_CruisinIntoSummer_WebPromo_300x250_March26_V1.jpg
END:VEVENT
BEGIN:VEVENT
DTSTART;VALUE=DATE:20260510
DTEND;VALUE=DATE:20260511
DTSTAMP:20260422T120035
CREATED:20260421T173714Z
LAST-MODIFIED:20260421T173901Z
UID:10005581-1778371200-1778457599@www.southlandcasino.com
SUMMARY:May Ignite Mother's Day Crab-Stuffed Lobster Tail & Filet
DESCRIPTION:Crab-Stuffed Lobster Tail & Filet – $70  \nSucculent cold-water lobster tail stuffed with our Ignite Signature Crab Cake and finished with our signature golden crumble. Served alongside a 6 oz center-cut filet mignon\, perfectly seasoned and grilled. \nTax and gratuity not included.
URL:https://www.southlandcasino.com/event/may-ignite-mothers-day-crab-stuffed-lobster-tail-filet/
CATEGORIES:Dining,Promotions
ATTACH;FMTTYPE=image/jpeg:https://www.southlandcasino.com/wp-content/uploads/2026/04/DN-GSCH_Ignite_MothersDay-SPECIALWebPromo_300x250_.jpg
END:VEVENT
BEGIN:VEVENT
DTSTART;TZID=America/Chicago:20260516T080000
DTEND;TZID=America/Chicago:20260516T170000
DTSTAMP:20260422T120035
CREATED:20260326T173957Z
LAST-MODIFIED:20260326T173957Z
UID:10005547-1778918400-1778950800@www.southlandcasino.com
SUMMARY:$400k Cruisin' Into Summer
DESCRIPTION:Saturdays in May & June | 7pm – 11pm \n\nOne free entry daily | 500 Points = 1 Entry (Max 10)\nEarn Entries April 1 – June 27 \nDrawings Every Saturday In May & June\n450 hourly winners share over $400k Free Play & Prizes \nStart Cruisin’ Drawing\nSaturday\, May 2 | 11pm\n10 Members will be drawn to win a share of 10\,000 in Free Play or a 2025 Ford Mustang GT Premium 60th Anniversary Edition. \nGrand Prize Drawings | 11pm\nSaturday\, May 30 & Saturday\, June 27\n10 members will be drawn to win a share of $10\,000 Free Play or a 2026 Mini Cooper Convertible.
URL:https://www.southlandcasino.com/event/400k-cruisin-into-summer/2026-05-16/
CATEGORIES:Casino Gaming Promos
ATTACH;FMTTYPE=image/jpeg:https://www.southlandcasino.com/wp-content/uploads/2026/03/DN-4596_GSCH_CruisinIntoSummer_WebPromo_300x250_March26_V1.jpg
END:VEVENT
BEGIN:VEVENT
DTSTART;TZID=America/Chicago:20260523T080000
DTEND;TZID=America/Chicago:20260523T170000
DTSTAMP:20260422T120035
CREATED:20260326T173957Z
LAST-MODIFIED:20260326T173957Z
UID:10005548-1779523200-1779555600@www.southlandcasino.com
SUMMARY:$400k Cruisin' Into Summer
DESCRIPTION:Saturdays in May & June | 7pm – 11pm \n\nOne free entry daily | 500 Points = 1 Entry (Max 10)\nEarn Entries April 1 – June 27 \nDrawings Every Saturday In May & June\n450 hourly winners share over $400k Free Play & Prizes \nStart Cruisin’ Drawing\nSaturday\, May 2 | 11pm\n10 Members will be drawn to win a share of 10\,000 in Free Play or a 2025 Ford Mustang GT Premium 60th Anniversary Edition. \nGrand Prize Drawings | 11pm\nSaturday\, May 30 & Saturday\, June 27\n10 members will be drawn to win a share of $10\,000 Free Play or a 2026 Mini Cooper Convertible.
URL:https://www.southlandcasino.com/event/400k-cruisin-into-summer/2026-05-23/
CATEGORIES:Casino Gaming Promos
ATTACH;FMTTYPE=image/jpeg:https://www.southlandcasino.com/wp-content/uploads/2026/03/DN-4596_GSCH_CruisinIntoSummer_WebPromo_300x250_March26_V1.jpg
END:VEVENT
BEGIN:VEVENT
DTSTART;TZID=America/Chicago:20260525T110000
DTEND;TZID=America/Chicago:20260525T220000
DTSTAMP:20260422T120035
CREATED:20250425T173133Z
LAST-MODIFIED:20260422T135321Z
UID:10005582-1779706800-1779746400@www.southlandcasino.com
SUMMARY:All-You-Can-Eat Crab Legs - Memorial Day Buffet
DESCRIPTION:May 25 | 11am – 10pm \n$29.99* All-You-Can-Eat Crab Legs! \nBefore entering\, swipe at any promotion kiosk to print your buffet voucher. *Regular price $59.99. Must present Lucky North® Rewards card and ID. Must purchase with cash\, credit/debit\, or points. Cannot be combined with comps\, tier discount\, or other food coupons or promotions. Tax & gratuity not included.
URL:https://www.southlandcasino.com/event/all-you-can-eat-crab-legs-memorial-day-weekend/2026-05-25/
CATEGORIES:Dining
ATTACH;FMTTYPE=image/jpeg:https://www.southlandcasino.com/wp-content/uploads/2026/04/DN-6358_GSCH_TheKitchensMemorialDay_WebPromo_300x250.jpg
END:VEVENT
BEGIN:VEVENT
DTSTART;TZID=America/Chicago:20260530T080000
DTEND;TZID=America/Chicago:20260530T170000
DTSTAMP:20260422T120035
CREATED:20260326T173957Z
LAST-MODIFIED:20260326T173957Z
UID:10005549-1780128000-1780160400@www.southlandcasino.com
SUMMARY:$400k Cruisin' Into Summer
DESCRIPTION:Saturdays in May & June | 7pm – 11pm \n\nOne free entry daily | 500 Points = 1 Entry (Max 10)\nEarn Entries April 1 – June 27 \nDrawings Every Saturday In May & June\n450 hourly winners share over $400k Free Play & Prizes \nStart Cruisin’ Drawing\nSaturday\, May 2 | 11pm\n10 Members will be drawn to win a share of 10\,000 in Free Play or a 2025 Ford Mustang GT Premium 60th Anniversary Edition. \nGrand Prize Drawings | 11pm\nSaturday\, May 30 & Saturday\, June 27\n10 members will be drawn to win a share of $10\,000 Free Play or a 2026 Mini Cooper Convertible.
URL:https://www.southlandcasino.com/event/400k-cruisin-into-summer/2026-05-30/
CATEGORIES:Casino Gaming Promos
ATTACH;FMTTYPE=image/jpeg:https://www.southlandcasino.com/wp-content/uploads/2026/03/DN-4596_GSCH_CruisinIntoSummer_WebPromo_300x250_March26_V1.jpg
END:VEVENT
BEGIN:VEVENT
DTSTART;TZID=America/Chicago:20260606T080000
DTEND;TZID=America/Chicago:20260606T170000
DTSTAMP:20260422T120035
CREATED:20260326T173957Z
LAST-MODIFIED:20260326T173957Z
UID:10005550-1780732800-1780765200@www.southlandcasino.com
SUMMARY:$400k Cruisin' Into Summer
DESCRIPTION:Saturdays in May & June | 7pm – 11pm \n\nOne free entry daily | 500 Points = 1 Entry (Max 10)\nEarn Entries April 1 – June 27 \nDrawings Every Saturday In May & June\n450 hourly winners share over $400k Free Play & Prizes \nStart Cruisin’ Drawing\nSaturday\, May 2 | 11pm\n10 Members will be drawn to win a share of 10\,000 in Free Play or a 2025 Ford Mustang GT Premium 60th Anniversary Edition. \nGrand Prize Drawings | 11pm\nSaturday\, May 30 & Saturday\, June 27\n10 members will be drawn to win a share of $10\,000 Free Play or a 2026 Mini Cooper Convertible.
URL:https://www.southlandcasino.com/event/400k-cruisin-into-summer/2026-06-06/
CATEGORIES:Casino Gaming Promos
ATTACH;FMTTYPE=image/jpeg:https://www.southlandcasino.com/wp-content/uploads/2026/03/DN-4596_GSCH_CruisinIntoSummer_WebPromo_300x250_March26_V1.jpg
END:VEVENT
BEGIN:VEVENT
DTSTART;TZID=America/Chicago:20260613T080000
DTEND;TZID=America/Chicago:20260613T170000
DTSTAMP:20260422T120035
CREATED:20260326T173957Z
LAST-MODIFIED:20260326T173957Z
UID:10005551-1781337600-1781370000@www.southlandcasino.com
SUMMARY:$400k Cruisin' Into Summer
DESCRIPTION:Saturdays in May & June | 7pm – 11pm \n\nOne free entry daily | 500 Points = 1 Entry (Max 10)\nEarn Entries April 1 – June 27 \nDrawings Every Saturday In May & June\n450 hourly winners share over $400k Free Play & Prizes \nStart Cruisin’ Drawing\nSaturday\, May 2 | 11pm\n10 Members will be drawn to win a share of 10\,000 in Free Play or a 2025 Ford Mustang GT Premium 60th Anniversary Edition. \nGrand Prize Drawings | 11pm\nSaturday\, May 30 & Saturday\, June 27\n10 members will be drawn to win a share of $10\,000 Free Play or a 2026 Mini Cooper Convertible.
URL:https://www.southlandcasino.com/event/400k-cruisin-into-summer/2026-06-13/
CATEGORIES:Casino Gaming Promos
ATTACH;FMTTYPE=image/jpeg:https://www.southlandcasino.com/wp-content/uploads/2026/03/DN-4596_GSCH_CruisinIntoSummer_WebPromo_300x250_March26_V1.jpg
END:VEVENT
BEGIN:VEVENT
DTSTART;TZID=America/Chicago:20260620T080000
DTEND;TZID=America/Chicago:20260620T170000
DTSTAMP:20260422T120035
CREATED:20260326T173957Z
LAST-MODIFIED:20260326T173957Z
UID:10005552-1781942400-1781974800@www.southlandcasino.com
SUMMARY:$400k Cruisin' Into Summer
DESCRIPTION:Saturdays in May & June | 7pm – 11pm \n\nOne free entry daily | 500 Points = 1 Entry (Max 10)\nEarn Entries April 1 – June 27 \nDrawings Every Saturday In May & June\n450 hourly winners share over $400k Free Play & Prizes \nStart Cruisin’ Drawing\nSaturday\, May 2 | 11pm\n10 Members will be drawn to win a share of 10\,000 in Free Play or a 2025 Ford Mustang GT Premium 60th Anniversary Edition. \nGrand Prize Drawings | 11pm\nSaturday\, May 30 & Saturday\, June 27\n10 members will be drawn to win a share of $10\,000 Free Play or a 2026 Mini Cooper Convertible.
URL:https://www.southlandcasino.com/event/400k-cruisin-into-summer/2026-06-20/
CATEGORIES:Casino Gaming Promos
ATTACH;FMTTYPE=image/jpeg:https://www.southlandcasino.com/wp-content/uploads/2026/03/DN-4596_GSCH_CruisinIntoSummer_WebPromo_300x250_March26_V1.jpg
END:VEVENT
BEGIN:VEVENT
DTSTART;TZID=America/Chicago:20260627T080000
DTEND;TZID=America/Chicago:20260627T170000
DTSTAMP:20260422T120035
CREATED:20260326T173957Z
LAST-MODIFIED:20260326T173957Z
UID:10005553-1782547200-1782579600@www.southlandcasino.com
SUMMARY:$400k Cruisin' Into Summer
DESCRIPTION:Saturdays in May & June | 7pm – 11pm \n\nOne free entry daily | 500 Points = 1 Entry (Max 10)\nEarn Entries April 1 – June 27 \nDrawings Every Saturday In May & June\n450 hourly winners share over $400k Free Play & Prizes \nStart Cruisin’ Drawing\nSaturday\, May 2 | 11pm\n10 Members will be drawn to win a share of 10\,000 in Free Play or a 2025 Ford Mustang GT Premium 60th Anniversary Edition. \nGrand Prize Drawings | 11pm\nSaturday\, May 30 & Saturday\, June 27\n10 members will be drawn to win a share of $10\,000 Free Play or a 2026 Mini Cooper Convertible.
URL:https://www.southlandcasino.com/event/400k-cruisin-into-summer/2026-06-27/
CATEGORIES:Casino Gaming Promos
ATTACH;FMTTYPE=image/jpeg:https://www.southlandcasino.com/wp-content/uploads/2026/03/DN-4596_GSCH_CruisinIntoSummer_WebPromo_300x250_March26_V1.jpg
END:VEVENT
END:VCALENDAR