BEGIN:VCALENDAR
VERSION:2.0
PRODID:-//Southland Casino - ECPv6.15.16//NONSGML v1.0//EN
CALSCALE:GREGORIAN
METHOD:PUBLISH
X-ORIGINAL-URL:https://www.southlandcasino.com
X-WR-CALDESC:Events for Southland Casino
REFRESH-INTERVAL;VALUE=DURATION:PT1H
X-Robots-Tag:noindex
X-PUBLISHED-TTL:PT1H
BEGIN:VTIMEZONE
TZID:America/Chicago
BEGIN:DAYLIGHT
TZOFFSETFROM:-0600
TZOFFSETTO:-0500
TZNAME:CDT
DTSTART:20240310T080000
END:DAYLIGHT
BEGIN:STANDARD
TZOFFSETFROM:-0500
TZOFFSETTO:-0600
TZNAME:CST
DTSTART:20241103T070000
END:STANDARD
BEGIN:DAYLIGHT
TZOFFSETFROM:-0600
TZOFFSETTO:-0500
TZNAME:CDT
DTSTART:20250309T080000
END:DAYLIGHT
BEGIN:STANDARD
TZOFFSETFROM:-0500
TZOFFSETTO:-0600
TZNAME:CST
DTSTART:20251102T070000
END:STANDARD
BEGIN:DAYLIGHT
TZOFFSETFROM:-0600
TZOFFSETTO:-0500
TZNAME:CDT
DTSTART:20260308T080000
END:DAYLIGHT
BEGIN:STANDARD
TZOFFSETFROM:-0500
TZOFFSETTO:-0600
TZNAME:CST
DTSTART:20261101T070000
END:STANDARD
END:VTIMEZONE
BEGIN:VTIMEZONE
TZID:UTC
BEGIN:STANDARD
TZOFFSETFROM:+0000
TZOFFSETTO:+0000
TZNAME:UTC
DTSTART:20240101T000000
END:STANDARD
END:VTIMEZONE
BEGIN:VEVENT
DTSTART;VALUE=DATE:20250620
DTEND;VALUE=DATE:20250901
DTSTAMP:20260425T094701
CREATED:20250620T124915Z
LAST-MODIFIED:20250730T173227Z
UID:10005059-1750377600-1756684799@www.southlandcasino.com
SUMMARY:Get Your Grub On For FREE!
DESCRIPTION:New members get a tasty perk! Learn More
URL:https://www.southlandcasino.com/event/get-your-grub-on-for-free/
CATEGORIES:Dining,Promotions
ATTACH;FMTTYPE=image/jpeg:https://www.southlandcasino.com/wp-content/uploads/2025/06/GSOU7431_LNR_NewMem_SignUpBuffet_Web_300x250June25_V1.jpg
END:VEVENT
BEGIN:VEVENT
DTSTART;VALUE=DATE:20250701
DTEND;VALUE=DATE:20250901
DTSTAMP:20260425T094701
CREATED:20250701T161619Z
LAST-MODIFIED:20250730T173126Z
UID:10005085-1751328000-1756684799@www.southlandcasino.com
SUMMARY:Honoring The Heroes Among Us
DESCRIPTION:Starting this July\, we are proud to recognize veterans\, active-duty military and first responders who serve and protect our community and country with our new HERO program! Visit the Lucky North® Rewards desk starting July 1 with required documents to receive your designation as a HERO member and unlock more benefits: \nCommemorative HERO card\nUpgrade to Emerald status*\nAccess to future HERO exclusive promotions\, offers and discounts.\nClick here for more information and required proof of status.
URL:https://www.southlandcasino.com/event/honoring-the-heroes-among-us/
CATEGORIES:Promotions
ATTACH;FMTTYPE=image/jpeg:https://www.southlandcasino.com/wp-content/uploads/2025/06/GHAM7401_HeroCardLaunch_Web300x250_Jun25_V1.jpg
END:VEVENT
BEGIN:VEVENT
DTSTART;VALUE=DATE:20250728
DTEND;VALUE=DATE:20250826
DTSTAMP:20260425T094701
CREATED:20240729T162318Z
LAST-MODIFIED:20250725T173340Z
UID:10003641-1753660800-1756166399@www.southlandcasino.com
SUMMARY:Help us reach #1 in USA Today
DESCRIPTION:July 28 – August 25The USA Today’s 10Best Readers’ Choice Awards has nominated Southland Casino Hotel for “Best Casino for Slots” and Lucky North® Rewards for “Best Players Club.” Vote once per day (per device). Voting ends at noon on August 25. VOTE TODAY Show your support and help us reach the top! Southland Casino Hotel – Best Casino for Slots Lucky North® Rewards – Best Players Club   USA Today’s 10Best lists provide original\, unbiased and experiential travel content of top attractions\, things to see and do\, and restaurants for top destinations in the U.S. and around the world.  
URL:https://www.southlandcasino.com/event/vote-today-usa-today-10best-awards/
CATEGORIES:Promotions
ATTACH;FMTTYPE=image/jpeg:https://www.southlandcasino.com/wp-content/uploads/2024/07/GCORP7439_USATodayVote_LNR_WebPromo_300x250_July25_V1-1.jpg
END:VEVENT
BEGIN:VEVENT
DTSTART;VALUE=DATE:20250801
DTEND;VALUE=DATE:20250901
DTSTAMP:20260425T094701
CREATED:20250730T155041Z
LAST-MODIFIED:20250730T155041Z
UID:10005136-1754006400-1756684799@www.southlandcasino.com
SUMMARY:The Grind August Special
DESCRIPTION:Honey Almond Iced Latte \n\nEspresso combined with honey and almond syrups\, served over ice with almond milk\, and garnished with a drizzle of honey and sliced almonds. \nRegular | $5.75  Large | $6.75
URL:https://www.southlandcasino.com/event/the-grind-august-special/
CATEGORIES:Dining
ATTACH;FMTTYPE=image/jpeg:https://www.southlandcasino.com/wp-content/uploads/2025/07/GSOU7421_Grind_WebPromo_300x250_July25_V1.jpg
END:VEVENT
BEGIN:VEVENT
DTSTART;VALUE=DATE:20250801
DTEND;VALUE=DATE:20250901
DTSTAMP:20260425T094701
CREATED:20250730T155625Z
LAST-MODIFIED:20250730T155625Z
UID:10005137-1754006400-1756684799@www.southlandcasino.com
SUMMARY:Seasons Cafe August Special
DESCRIPTION:Hot Honey Chicken & Waffles | $16.50\nFried Chicken with a drizzle of Hot Honey\, served on a Fluffy Waffle with Whipped Butter. \nSweet Potato Breakfast Skillet | $14.50\nRoasted Sweet Potatoes\, Caramelized Onions\, and Sausage topped with Sunny-Side-Up Eggs.
URL:https://www.southlandcasino.com/event/seasons-cafe-august-special/
CATEGORIES:Dining
ATTACH;FMTTYPE=image/jpeg:https://www.southlandcasino.com/wp-content/uploads/2025/07/GSOU7421_Seasons_Web-Promo-300x250_July25_V1.jpg
END:VEVENT
BEGIN:VEVENT
DTSTART;VALUE=DATE:20250801
DTEND;VALUE=DATE:20250901
DTSTAMP:20260425T094701
CREATED:20250730T173037Z
LAST-MODIFIED:20250730T173037Z
UID:10005138-1754006400-1756684799@www.southlandcasino.com
SUMMARY:The Fry House August Special
DESCRIPTION:Bayou Boil Fry Stack | $17 \nCajun fries with crawfish tails\, corn\, andouille sausage\, Old Bay butter\, and scallions.
URL:https://www.southlandcasino.com/event/the-fry-house-august-special/
CATEGORIES:Dining
ATTACH;FMTTYPE=image/jpeg:https://www.southlandcasino.com/wp-content/uploads/2025/07/GSOU7421_FryHouse_WebPromo_300x250_July25_V1.jpg
END:VEVENT
BEGIN:VEVENT
DTSTART;VALUE=DATE:20250801
DTEND;VALUE=DATE:20251102
DTSTAMP:20260425T094701
CREATED:20250729T201726Z
LAST-MODIFIED:20250909T153844Z
UID:10005132-1754006400-1762041599@www.southlandcasino.com
SUMMARY:What The Truck
DESCRIPTION:September & October\nGrand Prize Drawing | Saturday\, November 1\n\n250 Points = 1 Entry \nEarn and print max 10 entries daily! \nGrand Prize Drawing | Saturday\, November 1 | 6pm – 10pm \n50 Winners are drawn to win share of $60\,000 Free Play or a 2025 Kenworth Truck & Trailer.
URL:https://www.southlandcasino.com/event/what-the-truck/
CATEGORIES:Promotions
ATTACH;FMTTYPE=image/jpeg:https://www.southlandcasino.com/wp-content/uploads/2025/08/GSOU7477_WhatTheTruck_WebPromo_300x250_Aug25_v1.jpg
END:VEVENT
BEGIN:VEVENT
DTSTART;TZID=America/Chicago:20250817T180000
DTEND;TZID=America/Chicago:20250817T220000
DTSTAMP:20260425T094701
CREATED:20250729T185014Z
LAST-MODIFIED:20250729T185054Z
UID:10005116-1755453600-1755468000@www.southlandcasino.com
SUMMARY:Shaken Not Stirred Hot Seat
DESCRIPTION:Sundays in August | 6pm – 10pm\n28 Winners each Sunday over $12\,000 Free Play and receive an Agent 7 Operation Finalist ticket. \n\nTable games and simulcast play are not eligible for this promotion. Must be actively playing your Lucky North® Rewards card inserted into a slot machine.
URL:https://www.southlandcasino.com/event/shaken-not-stirred-hot-seat-2/2025-08-17/
CATEGORIES:Casino Gaming Promos,Promotions
ATTACH;FMTTYPE=image/jpeg:https://www.southlandcasino.com/wp-content/uploads/2025/07/GSOU7421_ShakenNotStirred__Web-Promo_300x250__July25_V1.jpg
END:VEVENT
BEGIN:VEVENT
DTSTART;TZID=UTC:20250818T190000
DTEND;TZID=UTC:20250818T210000
DTSTAMP:20260425T094701
CREATED:20241230T170931Z
LAST-MODIFIED:20250730T174932Z
UID:10005141-1755543600-1755550800@www.southlandcasino.com
SUMMARY:Betly Sports Bar & Grill - Top Answer
DESCRIPTION:Mondays |  7pm – 9pm \nWin up to $100 in food credits!
URL:https://www.southlandcasino.com/event/betly-sports-bar-grill-top-answer-2/2025-08-18/
CATEGORIES:Casino Gaming Promos,Dining
ATTACH;FMTTYPE=image/jpeg:https://www.southlandcasino.com/wp-content/uploads/2024/01/Southland-SportsBarGrill-LineUp-Promo.jpg
END:VEVENT
BEGIN:VEVENT
DTSTART;TZID=UTC:20250819T190000
DTEND;TZID=UTC:20250819T210000
DTSTAMP:20260425T094701
CREATED:20240329T002355Z
LAST-MODIFIED:20260326T181942Z
UID:10005145-1755630000-1755637200@www.southlandcasino.com
SUMMARY:Tuesday Trivia at Betly Sports Bar & Grill
DESCRIPTION:Tuesdays | 7pm – 9pm\nWin up to $100 in Food Credits! \n\nSign up in the Sports Bar each Tuesday. Must have a Lucky North® Rewards card to receive a prize. Dine in only\, no takeout.
URL:https://www.southlandcasino.com/event/trivia-tuesday-2/2025-08-19/
CATEGORIES:Casino Gaming Promos,Dining
ATTACH;FMTTYPE=image/jpeg:https://www.southlandcasino.com/wp-content/uploads/2024/01/Southland-SportsBarGrill-Trivia-Promo.jpg
END:VEVENT
BEGIN:VEVENT
DTSTART;TZID=America/Chicago:20250819T190000
DTEND;TZID=America/Chicago:20250819T210000
DTSTAMP:20260425T094701
CREATED:20250627T134502Z
LAST-MODIFIED:20250730T150409Z
UID:10005100-1755630000-1755637200@www.southlandcasino.com
SUMMARY:Ruby Appreciation Event
DESCRIPTION:Tuesday\, August 19 | 7pm – 9pm | Inside The Big Tent\n\n  \nJoin us to enjoy delicious food\, live entertainment\, and a chance to win Free Play! \nSwipe any promotion kiosk to receive an entry ticket.
URL:https://www.southlandcasino.com/event/ruby-appreciation-event/
CATEGORIES:Promotions
ATTACH;FMTTYPE=image/jpeg:https://www.southlandcasino.com/wp-content/uploads/2025/06/GSOU7343_TierAppreciationDays_Web-Promo_300x250_Ruby_June25_V1.jpg
END:VEVENT
BEGIN:VEVENT
DTSTART;TZID=America/Chicago:20250820T080000
DTEND;TZID=America/Chicago:20250820T200000
DTSTAMP:20260425T094701
CREATED:20250326T131605Z
LAST-MODIFIED:20251218T184207Z
UID:10005121-1755676800-1755720000@www.southlandcasino.com
SUMMARY:Lucky Legends - Bonus Giveaway
DESCRIPTION:Wednesdays | 8am – 8pmWin Up To $25 in Free Play! Lucky North® Rewards 50+ members\, swipe your card for a mystery bonus – up to $25 in Free Play! Win once per promotional day.
URL:https://www.southlandcasino.com/event/lucky-legends-50-plus-bonus-giveaway/2025-08-20/
CATEGORIES:Promotions
ATTACH;FMTTYPE=image/jpeg:https://www.southlandcasino.com/wp-content/uploads/2025/03/GCORP6774_LNR_LuckyLegends_WebPromo_300x250_Mar25_V1.jpg
END:VEVENT
BEGIN:VEVENT
DTSTART;TZID=America/Chicago:20250820T170000
DTEND;TZID=America/Chicago:20250820T210000
DTSTAMP:20260425T094701
CREATED:20250729T194941Z
LAST-MODIFIED:20250829T162804Z
UID:10005125-1755709200-1755723600@www.southlandcasino.com
SUMMARY:Last Agent Standing
DESCRIPTION:Wednesdays | 5pm – 9pm\n\n4 hourly winners drawn to win up to $1\,000 Free Play and receive an Agent 7 Operation finalist ticket. 7 points = 1 entry \nActivate entries at any slot. Simulcast points not eligible for this promotion. Points earned day of promotion.
URL:https://www.southlandcasino.com/event/last-agent-standing/2025-08-20/
CATEGORIES:Promotions
ATTACH;FMTTYPE=image/jpeg:https://www.southlandcasino.com/wp-content/uploads/2025/08/GSOU7477_LastAgentStanding_WebPromo_300x250_Aug25_v1.jpg
END:VEVENT
BEGIN:VEVENT
DTSTART;TZID=UTC:20250820T190000
DTEND;TZID=UTC:20250820T210000
DTSTAMP:20260425T094701
CREATED:20240112T003056Z
LAST-MODIFIED:20260326T182022Z
UID:10005149-1755716400-1755723600@www.southlandcasino.com
SUMMARY:Singo at the Betly Sports Bar & Grill
DESCRIPTION:Wednesdays | 7pm – 9pm\nWin up to $100 in food credits! \n 
URL:https://www.southlandcasino.com/event/singo/2025-08-20/
CATEGORIES:Casino Gaming Promos,Dining
ATTACH;FMTTYPE=image/jpeg:https://www.southlandcasino.com/wp-content/uploads/2024/01/Southland-SportsBarGrill-Singo-Promo.jpg
END:VEVENT
BEGIN:VEVENT
DTSTART;TZID=America/Chicago:20250820T190000
DTEND;TZID=America/Chicago:20250820T210000
DTSTAMP:20260425T094701
CREATED:20250627T134837Z
LAST-MODIFIED:20250730T150512Z
UID:10005101-1755716400-1755723600@www.southlandcasino.com
SUMMARY:Emerald & Sapphire Appreciation Event
DESCRIPTION:Wednesday\, August 20 | 7pm – 9pm | Inside The Big Tent\n\n  \nJoin us to enjoy delicious food\, live entertainment\, and a chance to win Free Play! \nSwipe any promotion kiosk to receive an entry ticket.
URL:https://www.southlandcasino.com/event/emerald-sapphire-appreciation-event/
CATEGORIES:Promotions
ATTACH;FMTTYPE=image/jpeg:https://www.southlandcasino.com/wp-content/uploads/2025/06/GSOU7343_TierAppreciationDays_Web-Promo_300x250_Emerald_Sapphire_June25_V1.jpg
END:VEVENT
BEGIN:VEVENT
DTSTART;TZID=America/Chicago:20250821T190000
DTEND;TZID=America/Chicago:20250821T210000
DTSTAMP:20260425T094701
CREATED:20250627T135051Z
LAST-MODIFIED:20250730T151436Z
UID:10005102-1755802800-1755810000@www.southlandcasino.com
SUMMARY:Diamond & Black Diamond Appreciation Event
DESCRIPTION:Thursday\, August 21 | 7pm – 9pm | Inside The Big Tent\n\n  \nJoin us to enjoy delicious food\, live entertainment\, and a chance to win Free Play! \nSwipe any promotion kiosk to receive an entry ticket.
URL:https://www.southlandcasino.com/event/diamond-black-diamond-appreciation-event/
CATEGORIES:Promotions
ATTACH;FMTTYPE=image/jpeg:https://www.southlandcasino.com/wp-content/uploads/2025/06/GSOU7343_TierAppreciationDays_Web-Promo_300x250_Diamond_BlackDimond_June25_V1.jpg
END:VEVENT
BEGIN:VEVENT
DTSTART;TZID=America/Chicago:20250822T180000
DTEND;TZID=America/Chicago:20250822T220000
DTSTAMP:20260425T094701
CREATED:20250729T201303Z
LAST-MODIFIED:20250829T162903Z
UID:10005130-1755885600-1755900000@www.southlandcasino.com
SUMMARY:Safecracker Royale
DESCRIPTION:Fridays | 6pm – 10pm\n\n250 Points= 1 Entry (Max 4)\nTest your spy skills and crack the safe to win $7\,000 cash! \nSecond Chance Drawing | 10:30pm\n7 names drawn to win $1\,000 Free Play! Free Play doubles if no one cracks the safe. All winners receive an Agent 7 Operation finalist ticket. \nEarn entries beginning at 8am. Simulcast points not eligible for this promotion.
URL:https://www.southlandcasino.com/event/safecracker-royale/2025-08-22/
CATEGORIES:Promotions
ATTACH;FMTTYPE=image/jpeg:https://www.southlandcasino.com/wp-content/uploads/2025/08/GSOU7477_SafecrackerRoyale__Web-Promo_300x250__Aug25_v1.jpg
END:VEVENT
BEGIN:VEVENT
DTSTART;TZID=America/Chicago:20250823T180000
DTEND;TZID=America/Chicago:20250823T220000
DTSTAMP:20260425T094701
CREATED:20250717T124531Z
LAST-MODIFIED:20250902T144851Z
UID:10005108-1755972000-1755986400@www.southlandcasino.com
SUMMARY:$950K Agent 7 Operation
DESCRIPTION:Saturdays in September | 6pm – 10pm\n\n  \nUp to 450 Winners will share $950\,000 Free Play or a BMW!\n\nHourly Drawings \nEarn entries daily | 7 points = 1 entry 2x entries on Mondays and Tuesdays \n  \nGrand Prize Drawings \nSeptember 27 | 10:30pm \nYou could be one of the lucky winners to take home up to $10\,007 Free Play or a 2025 BMW!
URL:https://www.southlandcasino.com/event/950k-agent-7-operation/2025-08-23/
CATEGORIES:Promotions
ATTACH;FMTTYPE=image/jpeg:https://www.southlandcasino.com/wp-content/uploads/2025/08/GSOU7477_950KAgent7_WebPromo_300x250_Aug25_v1.jpg
END:VEVENT
BEGIN:VEVENT
DTSTART;TZID=America/Chicago:20250824T180000
DTEND;TZID=America/Chicago:20250824T220000
DTSTAMP:20260425T094701
CREATED:20250729T185014Z
LAST-MODIFIED:20250729T185054Z
UID:10005117-1756058400-1756072800@www.southlandcasino.com
SUMMARY:Shaken Not Stirred Hot Seat
DESCRIPTION:Sundays in August | 6pm – 10pm\n28 Winners each Sunday over $12\,000 Free Play and receive an Agent 7 Operation Finalist ticket. \n\nTable games and simulcast play are not eligible for this promotion. Must be actively playing your Lucky North® Rewards card inserted into a slot machine.
URL:https://www.southlandcasino.com/event/shaken-not-stirred-hot-seat-2/2025-08-24/
CATEGORIES:Casino Gaming Promos,Promotions
ATTACH;FMTTYPE=image/jpeg:https://www.southlandcasino.com/wp-content/uploads/2025/07/GSOU7421_ShakenNotStirred__Web-Promo_300x250__July25_V1.jpg
END:VEVENT
BEGIN:VEVENT
DTSTART;TZID=UTC:20250826T190000
DTEND;TZID=UTC:20250826T210000
DTSTAMP:20260425T094701
CREATED:20240329T002355Z
LAST-MODIFIED:20260326T181942Z
UID:10005146-1756234800-1756242000@www.southlandcasino.com
SUMMARY:Tuesday Trivia at Betly Sports Bar & Grill
DESCRIPTION:Tuesdays | 7pm – 9pm\nWin up to $100 in Food Credits! \n\nSign up in the Sports Bar each Tuesday. Must have a Lucky North® Rewards card to receive a prize. Dine in only\, no takeout.
URL:https://www.southlandcasino.com/event/trivia-tuesday-2/2025-08-26/
CATEGORIES:Casino Gaming Promos,Dining
ATTACH;FMTTYPE=image/jpeg:https://www.southlandcasino.com/wp-content/uploads/2024/01/Southland-SportsBarGrill-Trivia-Promo.jpg
END:VEVENT
BEGIN:VEVENT
DTSTART;TZID=America/Chicago:20250827T080000
DTEND;TZID=America/Chicago:20250827T200000
DTSTAMP:20260425T094701
CREATED:20250326T131605Z
LAST-MODIFIED:20251218T184207Z
UID:10005122-1756281600-1756324800@www.southlandcasino.com
SUMMARY:Lucky Legends - Bonus Giveaway
DESCRIPTION:Wednesdays | 8am – 8pmWin Up To $25 in Free Play! Lucky North® Rewards 50+ members\, swipe your card for a mystery bonus – up to $25 in Free Play! Win once per promotional day.
URL:https://www.southlandcasino.com/event/lucky-legends-50-plus-bonus-giveaway/2025-08-27/
CATEGORIES:Promotions
ATTACH;FMTTYPE=image/jpeg:https://www.southlandcasino.com/wp-content/uploads/2025/03/GCORP6774_LNR_LuckyLegends_WebPromo_300x250_Mar25_V1.jpg
END:VEVENT
BEGIN:VEVENT
DTSTART;TZID=America/Chicago:20250827T170000
DTEND;TZID=America/Chicago:20250827T210000
DTSTAMP:20260425T094701
CREATED:20250729T194941Z
LAST-MODIFIED:20250829T162804Z
UID:10005126-1756314000-1756328400@www.southlandcasino.com
SUMMARY:Last Agent Standing
DESCRIPTION:Wednesdays | 5pm – 9pm\n\n4 hourly winners drawn to win up to $1\,000 Free Play and receive an Agent 7 Operation finalist ticket. 7 points = 1 entry \nActivate entries at any slot. Simulcast points not eligible for this promotion. Points earned day of promotion.
URL:https://www.southlandcasino.com/event/last-agent-standing/2025-08-27/
CATEGORIES:Promotions
ATTACH;FMTTYPE=image/jpeg:https://www.southlandcasino.com/wp-content/uploads/2025/08/GSOU7477_LastAgentStanding_WebPromo_300x250_Aug25_v1.jpg
END:VEVENT
BEGIN:VEVENT
DTSTART;TZID=UTC:20250827T190000
DTEND;TZID=UTC:20250827T210000
DTSTAMP:20260425T094701
CREATED:20240112T003056Z
LAST-MODIFIED:20260326T182022Z
UID:10005150-1756321200-1756328400@www.southlandcasino.com
SUMMARY:Singo at the Betly Sports Bar & Grill
DESCRIPTION:Wednesdays | 7pm – 9pm\nWin up to $100 in food credits! \n 
URL:https://www.southlandcasino.com/event/singo/2025-08-27/
CATEGORIES:Casino Gaming Promos,Dining
ATTACH;FMTTYPE=image/jpeg:https://www.southlandcasino.com/wp-content/uploads/2024/01/Southland-SportsBarGrill-Singo-Promo.jpg
END:VEVENT
BEGIN:VEVENT
DTSTART;TZID=America/Chicago:20250829T110000
DTEND;TZID=America/Chicago:20250830T220000
DTSTAMP:20260425T094701
CREATED:20240826T232159Z
LAST-MODIFIED:20250730T153708Z
UID:10005133-1756465200-1756591200@www.southlandcasino.com
SUMMARY:The Kitchens - Labor Day Weekend - All-You-Can-Eat Crab Legs
DESCRIPTION:Friday\, August 29 | 11am – 10pm\nSaturday\, August 30 | 11am – 10pm\nSunday\, August 31 | 11am – 8pm\nMonday\, September 1 | 11am – 8pm\n\n  \nAll-You-Can-Eat Crab Legs \n$27.50 With a Lucky North® Rewards Card. \n  \n\nSwipe at any promotion kiosk to print your buffet voucher.
URL:https://www.southlandcasino.com/event/labor-day-weekend-crab-legs-special/2025-08-29/
CATEGORIES:Dining
ATTACH;FMTTYPE=image/jpeg:https://www.southlandcasino.com/wp-content/uploads/2025/07/GSOU7421_TheKitchens_WebPromo_300x250_July25_V1.jpg
END:VEVENT
BEGIN:VEVENT
DTSTART;TZID=America/Chicago:20250829T180000
DTEND;TZID=America/Chicago:20250829T220000
DTSTAMP:20260425T094701
CREATED:20250729T201303Z
LAST-MODIFIED:20250829T162903Z
UID:10005131-1756490400-1756504800@www.southlandcasino.com
SUMMARY:Safecracker Royale
DESCRIPTION:Fridays | 6pm – 10pm\n\n250 Points= 1 Entry (Max 4)\nTest your spy skills and crack the safe to win $7\,000 cash! \nSecond Chance Drawing | 10:30pm\n7 names drawn to win $1\,000 Free Play! Free Play doubles if no one cracks the safe. All winners receive an Agent 7 Operation finalist ticket. \nEarn entries beginning at 8am. Simulcast points not eligible for this promotion.
URL:https://www.southlandcasino.com/event/safecracker-royale/2025-08-29/
CATEGORIES:Promotions
ATTACH;FMTTYPE=image/jpeg:https://www.southlandcasino.com/wp-content/uploads/2025/08/GSOU7477_SafecrackerRoyale__Web-Promo_300x250__Aug25_v1.jpg
END:VEVENT
BEGIN:VEVENT
DTSTART;TZID=America/Chicago:20250830T180000
DTEND;TZID=America/Chicago:20250830T220000
DTSTAMP:20260425T094701
CREATED:20250717T124531Z
LAST-MODIFIED:20250902T144851Z
UID:10005109-1756576800-1756591200@www.southlandcasino.com
SUMMARY:$950K Agent 7 Operation
DESCRIPTION:Saturdays in September | 6pm – 10pm\n\n  \nUp to 450 Winners will share $950\,000 Free Play or a BMW!\n\nHourly Drawings \nEarn entries daily | 7 points = 1 entry 2x entries on Mondays and Tuesdays \n  \nGrand Prize Drawings \nSeptember 27 | 10:30pm \nYou could be one of the lucky winners to take home up to $10\,007 Free Play or a 2025 BMW!
URL:https://www.southlandcasino.com/event/950k-agent-7-operation/2025-08-30/
CATEGORIES:Promotions
ATTACH;FMTTYPE=image/jpeg:https://www.southlandcasino.com/wp-content/uploads/2025/08/GSOU7477_950KAgent7_WebPromo_300x250_Aug25_v1.jpg
END:VEVENT
BEGIN:VEVENT
DTSTART;TZID=America/Chicago:20250831T110000
DTEND;TZID=America/Chicago:20250831T200000
DTSTAMP:20260425T094701
CREATED:20240826T232159Z
LAST-MODIFIED:20250730T153708Z
UID:10005134-1756638000-1756670400@www.southlandcasino.com
SUMMARY:The Kitchens - Labor Day Weekend - All-You-Can-Eat Crab Legs
DESCRIPTION:Friday\, August 29 | 11am – 10pm\nSaturday\, August 30 | 11am – 10pm\nSunday\, August 31 | 11am – 8pm\nMonday\, September 1 | 11am – 8pm\n\n  \nAll-You-Can-Eat Crab Legs \n$27.50 With a Lucky North® Rewards Card. \n  \n\nSwipe at any promotion kiosk to print your buffet voucher.
URL:https://www.southlandcasino.com/event/labor-day-weekend-crab-legs-special/2025-08-31/
CATEGORIES:Dining
ATTACH;FMTTYPE=image/jpeg:https://www.southlandcasino.com/wp-content/uploads/2025/07/GSOU7421_TheKitchens_WebPromo_300x250_July25_V1.jpg
END:VEVENT
BEGIN:VEVENT
DTSTART;TZID=America/Chicago:20250831T180000
DTEND;TZID=America/Chicago:20250831T220000
DTSTAMP:20260425T094701
CREATED:20250729T185014Z
LAST-MODIFIED:20250729T185054Z
UID:10005118-1756663200-1756677600@www.southlandcasino.com
SUMMARY:Shaken Not Stirred Hot Seat
DESCRIPTION:Sundays in August | 6pm – 10pm\n28 Winners each Sunday over $12\,000 Free Play and receive an Agent 7 Operation Finalist ticket. \n\nTable games and simulcast play are not eligible for this promotion. Must be actively playing your Lucky North® Rewards card inserted into a slot machine.
URL:https://www.southlandcasino.com/event/shaken-not-stirred-hot-seat-2/2025-08-31/
CATEGORIES:Casino Gaming Promos,Promotions
ATTACH;FMTTYPE=image/jpeg:https://www.southlandcasino.com/wp-content/uploads/2025/07/GSOU7421_ShakenNotStirred__Web-Promo_300x250__July25_V1.jpg
END:VEVENT
BEGIN:VEVENT
DTSTART;VALUE=DATE:20250901
DTEND;VALUE=DATE:20251001
DTSTAMP:20260425T094701
CREATED:20250829T134721Z
LAST-MODIFIED:20250829T134721Z
UID:10005169-1756684800-1759276799@www.southlandcasino.com
SUMMARY:The Fry House September Special
DESCRIPTION:Cajun Gator Fry Stack | $18 \nSeasoned fries topped with crispy fried gator bites\, smoky Cajun remoulade\, charred corn salsa\, and scallions.
URL:https://www.southlandcasino.com/event/the-fry-house-september-special/
CATEGORIES:Dining
ATTACH;FMTTYPE=image/jpeg:https://www.southlandcasino.com/wp-content/uploads/2025/08/GSOU7477_FryHouse_Sept_WebPromo_300x250_Aug25_v1.jpg
END:VEVENT
BEGIN:VEVENT
DTSTART;VALUE=DATE:20250901
DTEND;VALUE=DATE:20251001
DTSTAMP:20260425T094701
CREATED:20250829T134818Z
LAST-MODIFIED:20250829T134818Z
UID:10005168-1756684800-1759276799@www.southlandcasino.com
SUMMARY:Seasons Cafe September Specials
DESCRIPTION:Pumpkin Spice Pancakes | $13.50\nSpiced pumpkin pancakes served with maple pecan butter and a drizzle of warm sorghum syrup. \nApple Cider Biscuit Bowl | $12\nBiscuit pieces layered with spiced apples\, granola\, and a dollop of whipped cream.
URL:https://www.southlandcasino.com/event/seasons-cafe-september-specials/
CATEGORIES:Dining
ATTACH;FMTTYPE=image/jpeg:https://www.southlandcasino.com/wp-content/uploads/2025/08/GSOU7477_Seasons_Web-Promo-300x250_Aug25_v1.jpg
END:VEVENT
END:VCALENDAR