BEGIN:VCALENDAR
VERSION:2.0
PRODID:-//Southland Casino - ECPv6.15.16//NONSGML v1.0//EN
CALSCALE:GREGORIAN
METHOD:PUBLISH
X-ORIGINAL-URL:https://www.southlandcasino.com
X-WR-CALDESC:Events for Southland Casino
REFRESH-INTERVAL;VALUE=DURATION:PT1H
X-Robots-Tag:noindex
X-PUBLISHED-TTL:PT1H
BEGIN:VTIMEZONE
TZID:America/Chicago
BEGIN:DAYLIGHT
TZOFFSETFROM:-0600
TZOFFSETTO:-0500
TZNAME:CDT
DTSTART:20240310T080000
END:DAYLIGHT
BEGIN:STANDARD
TZOFFSETFROM:-0500
TZOFFSETTO:-0600
TZNAME:CST
DTSTART:20241103T070000
END:STANDARD
BEGIN:DAYLIGHT
TZOFFSETFROM:-0600
TZOFFSETTO:-0500
TZNAME:CDT
DTSTART:20250309T080000
END:DAYLIGHT
BEGIN:STANDARD
TZOFFSETFROM:-0500
TZOFFSETTO:-0600
TZNAME:CST
DTSTART:20251102T070000
END:STANDARD
BEGIN:DAYLIGHT
TZOFFSETFROM:-0600
TZOFFSETTO:-0500
TZNAME:CDT
DTSTART:20260308T080000
END:DAYLIGHT
BEGIN:STANDARD
TZOFFSETFROM:-0500
TZOFFSETTO:-0600
TZNAME:CST
DTSTART:20261101T070000
END:STANDARD
END:VTIMEZONE
BEGIN:VEVENT
DTSTART;TZID=America/Chicago:20250103T140000
DTEND;TZID=America/Chicago:20250103T220000
DTSTAMP:20260421T003805
CREATED:20241230T163643Z
LAST-MODIFIED:20241230T163724Z
UID:10003969-1735912800-1735941600@www.southlandcasino.com
SUMMARY:Field Goal Frenzy
DESCRIPTION:Fridays in January | 2pm – 10pm\nOne free entry every Friday.\n\n90 winners are drawn to win their share of $80\,000 in Free Play! \n18 winners per night\, 2 winners every hour win up to $1\,000 in Free Play.
URL:https://www.southlandcasino.com/event/field-goal-frenzy/2025-01-03/
CATEGORIES:Casino Gaming Promos,Poker Promotion
ATTACH;FMTTYPE=image/jpeg:https://www.southlandcasino.com/wp-content/uploads/2024/12/Southland-FieldGoalFrenzy-Promo.jpg
END:VEVENT
END:VCALENDAR