BEGIN:VCALENDAR
VERSION:2.0
PRODID:-//Southland Casino - ECPv6.15.16//NONSGML v1.0//EN
CALSCALE:GREGORIAN
METHOD:PUBLISH
X-ORIGINAL-URL:https://www.southlandcasino.com
X-WR-CALDESC:Events for Southland Casino
REFRESH-INTERVAL;VALUE=DURATION:PT1H
X-Robots-Tag:noindex
X-PUBLISHED-TTL:PT1H
BEGIN:VTIMEZONE
TZID:UTC
BEGIN:STANDARD
TZOFFSETFROM:+0000
TZOFFSETTO:+0000
TZNAME:UTC
DTSTART:20230101T000000
END:STANDARD
END:VTIMEZONE
BEGIN:VTIMEZONE
TZID:America/Chicago
BEGIN:DAYLIGHT
TZOFFSETFROM:-0600
TZOFFSETTO:-0500
TZNAME:CDT
DTSTART:20230312T080000
END:DAYLIGHT
BEGIN:STANDARD
TZOFFSETFROM:-0500
TZOFFSETTO:-0600
TZNAME:CST
DTSTART:20231105T070000
END:STANDARD
BEGIN:DAYLIGHT
TZOFFSETFROM:-0600
TZOFFSETTO:-0500
TZNAME:CDT
DTSTART:20240310T080000
END:DAYLIGHT
BEGIN:STANDARD
TZOFFSETFROM:-0500
TZOFFSETTO:-0600
TZNAME:CST
DTSTART:20241103T070000
END:STANDARD
BEGIN:DAYLIGHT
TZOFFSETFROM:-0600
TZOFFSETTO:-0500
TZNAME:CDT
DTSTART:20250309T080000
END:DAYLIGHT
BEGIN:STANDARD
TZOFFSETFROM:-0500
TZOFFSETTO:-0600
TZNAME:CST
DTSTART:20251102T070000
END:STANDARD
BEGIN:DAYLIGHT
TZOFFSETFROM:-0600
TZOFFSETTO:-0500
TZNAME:CDT
DTSTART:20260308T080000
END:DAYLIGHT
BEGIN:STANDARD
TZOFFSETFROM:-0500
TZOFFSETTO:-0600
TZNAME:CST
DTSTART:20261101T070000
END:STANDARD
END:VTIMEZONE
BEGIN:VEVENT
DTSTART;TZID=UTC:20241211T190000
DTEND;TZID=UTC:20241211T210000
DTSTAMP:20260421T065359
CREATED:20240112T003056Z
LAST-MODIFIED:20260326T182022Z
UID:10003878-1733943600-1733950800@www.southlandcasino.com
SUMMARY:Singo at the Betly Sports Bar & Grill
DESCRIPTION:Wednesdays | 7pm – 9pm\nWin up to $100 in food credits! \n 
URL:https://www.southlandcasino.com/event/singo/2024-12-11/
CATEGORIES:Casino Gaming Promos,Dining
ATTACH;FMTTYPE=image/jpeg:https://www.southlandcasino.com/wp-content/uploads/2024/01/Southland-SportsBarGrill-Singo-Promo.jpg
END:VEVENT
BEGIN:VEVENT
DTSTART;TZID=UTC:20241217T190000
DTEND;TZID=UTC:20241217T210000
DTSTAMP:20260421T065359
CREATED:20240329T002355Z
LAST-MODIFIED:20260326T181942Z
UID:10003874-1734462000-1734469200@www.southlandcasino.com
SUMMARY:Tuesday Trivia at Betly Sports Bar & Grill
DESCRIPTION:Tuesdays | 7pm – 9pm\nWin up to $100 in Food Credits! \n\nSign up in the Sports Bar each Tuesday. Must have a Lucky North® Rewards card to receive a prize. Dine in only\, no takeout.
URL:https://www.southlandcasino.com/event/trivia-tuesday-2/2024-12-17/
CATEGORIES:Casino Gaming Promos,Dining
ATTACH;FMTTYPE=image/jpeg:https://www.southlandcasino.com/wp-content/uploads/2024/01/Southland-SportsBarGrill-Trivia-Promo.jpg
END:VEVENT
BEGIN:VEVENT
DTSTART;TZID=UTC:20241218T190000
DTEND;TZID=UTC:20241218T210000
DTSTAMP:20260421T065359
CREATED:20240112T003056Z
LAST-MODIFIED:20260326T182022Z
UID:10003879-1734548400-1734555600@www.southlandcasino.com
SUMMARY:Singo at the Betly Sports Bar & Grill
DESCRIPTION:Wednesdays | 7pm – 9pm\nWin up to $100 in food credits! \n 
URL:https://www.southlandcasino.com/event/singo/2024-12-18/
CATEGORIES:Casino Gaming Promos,Dining
ATTACH;FMTTYPE=image/jpeg:https://www.southlandcasino.com/wp-content/uploads/2024/01/Southland-SportsBarGrill-Singo-Promo.jpg
END:VEVENT
BEGIN:VEVENT
DTSTART;TZID=UTC:20241224T190000
DTEND;TZID=UTC:20241224T210000
DTSTAMP:20260421T065359
CREATED:20240329T002355Z
LAST-MODIFIED:20260326T181942Z
UID:10003875-1735066800-1735074000@www.southlandcasino.com
SUMMARY:Tuesday Trivia at Betly Sports Bar & Grill
DESCRIPTION:Tuesdays | 7pm – 9pm\nWin up to $100 in Food Credits! \n\nSign up in the Sports Bar each Tuesday. Must have a Lucky North® Rewards card to receive a prize. Dine in only\, no takeout.
URL:https://www.southlandcasino.com/event/trivia-tuesday-2/2024-12-24/
CATEGORIES:Casino Gaming Promos,Dining
ATTACH;FMTTYPE=image/jpeg:https://www.southlandcasino.com/wp-content/uploads/2024/01/Southland-SportsBarGrill-Trivia-Promo.jpg
END:VEVENT
BEGIN:VEVENT
DTSTART;TZID=UTC:20241225T190000
DTEND;TZID=UTC:20241225T210000
DTSTAMP:20260421T065359
CREATED:20240112T003056Z
LAST-MODIFIED:20260326T182022Z
UID:10003880-1735153200-1735160400@www.southlandcasino.com
SUMMARY:Singo at the Betly Sports Bar & Grill
DESCRIPTION:Wednesdays | 7pm – 9pm\nWin up to $100 in food credits! \n 
URL:https://www.southlandcasino.com/event/singo/2024-12-25/
CATEGORIES:Casino Gaming Promos,Dining
ATTACH;FMTTYPE=image/jpeg:https://www.southlandcasino.com/wp-content/uploads/2024/01/Southland-SportsBarGrill-Singo-Promo.jpg
END:VEVENT
BEGIN:VEVENT
DTSTART;VALUE=DATE:20241228
DTEND;VALUE=DATE:20250101
DTSTAMP:20260421T065359
CREATED:20241121T135202Z
LAST-MODIFIED:20241209T163155Z
UID:10003881-1735344000-1735689599@www.southlandcasino.com
SUMMARY:Countdown To The New Year 2025
DESCRIPTION:Spend New Years at Southland Casino Hotel with your chance to win your share of over $100\,000 in free play or drive into the new year in a 2025 Lexus!     Food SpecialsCrab Legs – Saturday December 28 – Tuesday December 31 | 50% off with LNC card     New Years Weekend Line Up  Saturday\, December 28th Chairman’s Bar\n2:00pm – 6:00pm – Thumpdaddy\n7:00pm – 10:00pm – Twin Soul\n10:00pm – 2:00am – DJ TBA Charred Oak\n8:00pm – 12:00am – Mandi and Angela Sports Bar\n8:00pm – 12:00am – The Delta Project   Sunday\, December 29th Charred Oak\n5:00pm – 9:00pm – Mandi Thomas   Monday\, December 30th Chairman’s Bar\n7:00pm – 12:00am – DJ TBA Charred Oak\n6:00pm – 10:00pm – Ethan Smith Trio   Tuesday\, December 31st Chairman’s Bar\n4:00pm – 8:00pm – Jerome Chism and the M-Town Band\n8:30pm – 12:30am – Troy Laz\n12:30am – 3:00am – DJ TBA Charred Oak\n8:00pm – 12:00am – Tony Holiday Sports Bar\n8:00pm – 12:00am – Roxi Love
URL:https://www.southlandcasino.com/event/countdown-to-the-new-year-2025/
CATEGORIES:Dining,Live Entertainment,Poker Promotion
ATTACH;FMTTYPE=image/jpeg:https://www.southlandcasino.com/wp-content/uploads/2024/11/Southland-NYE2024Generic-Promo.jpg
END:VEVENT
BEGIN:VEVENT
DTSTART;TZID=America/Chicago:20241228T110000
DTEND;TZID=America/Chicago:20241228T220000
DTSTAMP:20260421T065359
CREATED:20241127T155409Z
LAST-MODIFIED:20241226T155920Z
UID:10003867-1735383600-1735423200@www.southlandcasino.com
SUMMARY:New Year's All-You-Can-Eat Crab Legs
DESCRIPTION:New Year’s All-You-Can-Eat Crab Legs | $27.50 with a Lucky North® Club Card \nSaturday\, December 28 | 11am-10pm\nSunday\, December 29 | 11am-8pm\nMonday December 30 | 11am-8pm\nTuesday\, December 31 | 11am-1am \n\nRegular price $54.99. Must present Lucky North® Club card and ID. Must purchase with cash\, credit/debit\, or points. Cannot be combined with comps\, tier discount\, or other food coupons or promotions. Tax and gratuity not included.
URL:https://www.southlandcasino.com/event/new-years-all-you-can-eat-crab-legs/2024-12-28/
CATEGORIES:Casino Gaming Promos,Dining
ATTACH;FMTTYPE=image/jpeg:https://www.southlandcasino.com/wp-content/uploads/2024/11/Southland-TheKitchens-Promo.jpg
END:VEVENT
BEGIN:VEVENT
DTSTART;TZID=America/Chicago:20241229T110000
DTEND;TZID=America/Chicago:20241229T200000
DTSTAMP:20260421T065359
CREATED:20241127T155409Z
LAST-MODIFIED:20241226T155920Z
UID:10003868-1735470000-1735502400@www.southlandcasino.com
SUMMARY:New Year's All-You-Can-Eat Crab Legs
DESCRIPTION:New Year’s All-You-Can-Eat Crab Legs | $27.50 with a Lucky North® Club Card \nSaturday\, December 28 | 11am-10pm\nSunday\, December 29 | 11am-8pm\nMonday December 30 | 11am-8pm\nTuesday\, December 31 | 11am-1am \n\nRegular price $54.99. Must present Lucky North® Club card and ID. Must purchase with cash\, credit/debit\, or points. Cannot be combined with comps\, tier discount\, or other food coupons or promotions. Tax and gratuity not included.
URL:https://www.southlandcasino.com/event/new-years-all-you-can-eat-crab-legs/2024-12-29/
CATEGORIES:Casino Gaming Promos,Dining
ATTACH;FMTTYPE=image/jpeg:https://www.southlandcasino.com/wp-content/uploads/2024/11/Southland-TheKitchens-Promo.jpg
END:VEVENT
BEGIN:VEVENT
DTSTART;TZID=America/Chicago:20241230T110000
DTEND;TZID=America/Chicago:20241230T200000
DTSTAMP:20260421T065359
CREATED:20241127T155409Z
LAST-MODIFIED:20241226T155920Z
UID:10003869-1735556400-1735588800@www.southlandcasino.com
SUMMARY:New Year's All-You-Can-Eat Crab Legs
DESCRIPTION:New Year’s All-You-Can-Eat Crab Legs | $27.50 with a Lucky North® Club Card \nSaturday\, December 28 | 11am-10pm\nSunday\, December 29 | 11am-8pm\nMonday December 30 | 11am-8pm\nTuesday\, December 31 | 11am-1am \n\nRegular price $54.99. Must present Lucky North® Club card and ID. Must purchase with cash\, credit/debit\, or points. Cannot be combined with comps\, tier discount\, or other food coupons or promotions. Tax and gratuity not included.
URL:https://www.southlandcasino.com/event/new-years-all-you-can-eat-crab-legs/2024-12-30/
CATEGORIES:Casino Gaming Promos,Dining
ATTACH;FMTTYPE=image/jpeg:https://www.southlandcasino.com/wp-content/uploads/2024/11/Southland-TheKitchens-Promo.jpg
END:VEVENT
BEGIN:VEVENT
DTSTART;TZID=America/Chicago:20241231T000000
DTEND;TZID=America/Chicago:20241231T010000
DTSTAMP:20260421T065359
CREATED:20241127T155409Z
LAST-MODIFIED:20241226T155920Z
UID:10003942-1735603200-1735606800@www.southlandcasino.com
SUMMARY:New Year's All-You-Can-Eat Crab Legs
DESCRIPTION:New Year’s All-You-Can-Eat Crab Legs | $27.50 with a Lucky North® Club Card \nSaturday\, December 28 | 11am-10pm\nSunday\, December 29 | 11am-8pm\nMonday December 30 | 11am-8pm\nTuesday\, December 31 | 11am-1am \n\nRegular price $54.99. Must present Lucky North® Club card and ID. Must purchase with cash\, credit/debit\, or points. Cannot be combined with comps\, tier discount\, or other food coupons or promotions. Tax and gratuity not included.
URL:https://www.southlandcasino.com/event/new-years-all-you-can-eat-crab-legs/2024-12-31/1/
CATEGORIES:Casino Gaming Promos,Dining
ATTACH;FMTTYPE=image/jpeg:https://www.southlandcasino.com/wp-content/uploads/2024/11/Southland-TheKitchens-Promo.jpg
END:VEVENT
BEGIN:VEVENT
DTSTART;TZID=America/Chicago:20241231T110000
DTEND;TZID=America/Chicago:20241231T235900
DTSTAMP:20260421T065359
CREATED:20241127T155409Z
LAST-MODIFIED:20241226T155920Z
UID:10003870-1735642800-1735689540@www.southlandcasino.com
SUMMARY:New Year's All-You-Can-Eat Crab Legs
DESCRIPTION:New Year’s All-You-Can-Eat Crab Legs | $27.50 with a Lucky North® Club Card \nSaturday\, December 28 | 11am-10pm\nSunday\, December 29 | 11am-8pm\nMonday December 30 | 11am-8pm\nTuesday\, December 31 | 11am-1am \n\nRegular price $54.99. Must present Lucky North® Club card and ID. Must purchase with cash\, credit/debit\, or points. Cannot be combined with comps\, tier discount\, or other food coupons or promotions. Tax and gratuity not included.
URL:https://www.southlandcasino.com/event/new-years-all-you-can-eat-crab-legs/2024-12-31/2/
CATEGORIES:Casino Gaming Promos,Dining
ATTACH;FMTTYPE=image/jpeg:https://www.southlandcasino.com/wp-content/uploads/2024/11/Southland-TheKitchens-Promo.jpg
END:VEVENT
BEGIN:VEVENT
DTSTART;TZID=UTC:20241231T190000
DTEND;TZID=UTC:20241231T210000
DTSTAMP:20260421T065359
CREATED:20240329T002355Z
LAST-MODIFIED:20260326T181942Z
UID:10003876-1735671600-1735678800@www.southlandcasino.com
SUMMARY:Tuesday Trivia at Betly Sports Bar & Grill
DESCRIPTION:Tuesdays | 7pm – 9pm\nWin up to $100 in Food Credits! \n\nSign up in the Sports Bar each Tuesday. Must have a Lucky North® Rewards card to receive a prize. Dine in only\, no takeout.
URL:https://www.southlandcasino.com/event/trivia-tuesday-2/2024-12-31/
CATEGORIES:Casino Gaming Promos,Dining
ATTACH;FMTTYPE=image/jpeg:https://www.southlandcasino.com/wp-content/uploads/2024/01/Southland-SportsBarGrill-Trivia-Promo.jpg
END:VEVENT
BEGIN:VEVENT
DTSTART;TZID=UTC:20250101T190000
DTEND;TZID=UTC:20250101T210000
DTSTAMP:20260421T065359
CREATED:20240112T003056Z
LAST-MODIFIED:20260326T182022Z
UID:10003996-1735758000-1735765200@www.southlandcasino.com
SUMMARY:Singo at the Betly Sports Bar & Grill
DESCRIPTION:Wednesdays | 7pm – 9pm\nWin up to $100 in food credits! \n 
URL:https://www.southlandcasino.com/event/singo/2025-01-01/
CATEGORIES:Casino Gaming Promos,Dining
ATTACH;FMTTYPE=image/jpeg:https://www.southlandcasino.com/wp-content/uploads/2024/01/Southland-SportsBarGrill-Singo-Promo.jpg
END:VEVENT
BEGIN:VEVENT
DTSTART;TZID=UTC:20250106T190000
DTEND;TZID=UTC:20250106T210000
DTSTAMP:20260421T065359
CREATED:20241230T170931Z
LAST-MODIFIED:20250730T174932Z
UID:10003618-1736190000-1736197200@www.southlandcasino.com
SUMMARY:Betly Sports Bar & Grill - Top Answer
DESCRIPTION:Mondays |  7pm – 9pm \nWin up to $100 in food credits!
URL:https://www.southlandcasino.com/event/betly-sports-bar-grill-top-answer-2/2025-01-06/
CATEGORIES:Casino Gaming Promos,Dining
ATTACH;FMTTYPE=image/jpeg:https://www.southlandcasino.com/wp-content/uploads/2024/01/Southland-SportsBarGrill-LineUp-Promo.jpg
END:VEVENT
BEGIN:VEVENT
DTSTART;TZID=UTC:20250107T190000
DTEND;TZID=UTC:20250107T210000
DTSTAMP:20260421T065359
CREATED:20240329T002355Z
LAST-MODIFIED:20260326T181942Z
UID:10003992-1736276400-1736283600@www.southlandcasino.com
SUMMARY:Tuesday Trivia at Betly Sports Bar & Grill
DESCRIPTION:Tuesdays | 7pm – 9pm\nWin up to $100 in Food Credits! \n\nSign up in the Sports Bar each Tuesday. Must have a Lucky North® Rewards card to receive a prize. Dine in only\, no takeout.
URL:https://www.southlandcasino.com/event/trivia-tuesday-2/2025-01-07/
CATEGORIES:Casino Gaming Promos,Dining
ATTACH;FMTTYPE=image/jpeg:https://www.southlandcasino.com/wp-content/uploads/2024/01/Southland-SportsBarGrill-Trivia-Promo.jpg
END:VEVENT
BEGIN:VEVENT
DTSTART;TZID=UTC:20250108T190000
DTEND;TZID=UTC:20250108T210000
DTSTAMP:20260421T065359
CREATED:20240112T003056Z
LAST-MODIFIED:20260326T182022Z
UID:10003997-1736362800-1736370000@www.southlandcasino.com
SUMMARY:Singo at the Betly Sports Bar & Grill
DESCRIPTION:Wednesdays | 7pm – 9pm\nWin up to $100 in food credits! \n 
URL:https://www.southlandcasino.com/event/singo/2025-01-08/
CATEGORIES:Casino Gaming Promos,Dining
ATTACH;FMTTYPE=image/jpeg:https://www.southlandcasino.com/wp-content/uploads/2024/01/Southland-SportsBarGrill-Singo-Promo.jpg
END:VEVENT
BEGIN:VEVENT
DTSTART;TZID=UTC:20250113T190000
DTEND;TZID=UTC:20250113T210000
DTSTAMP:20260421T065359
CREATED:20241230T170931Z
LAST-MODIFIED:20250730T174932Z
UID:10003989-1736794800-1736802000@www.southlandcasino.com
SUMMARY:Betly Sports Bar & Grill - Top Answer
DESCRIPTION:Mondays |  7pm – 9pm \nWin up to $100 in food credits!
URL:https://www.southlandcasino.com/event/betly-sports-bar-grill-top-answer-2/2025-01-13/
CATEGORIES:Casino Gaming Promos,Dining
ATTACH;FMTTYPE=image/jpeg:https://www.southlandcasino.com/wp-content/uploads/2024/01/Southland-SportsBarGrill-LineUp-Promo.jpg
END:VEVENT
BEGIN:VEVENT
DTSTART;TZID=UTC:20250114T190000
DTEND;TZID=UTC:20250114T210000
DTSTAMP:20260421T065359
CREATED:20240329T002355Z
LAST-MODIFIED:20260326T181942Z
UID:10003993-1736881200-1736888400@www.southlandcasino.com
SUMMARY:Tuesday Trivia at Betly Sports Bar & Grill
DESCRIPTION:Tuesdays | 7pm – 9pm\nWin up to $100 in Food Credits! \n\nSign up in the Sports Bar each Tuesday. Must have a Lucky North® Rewards card to receive a prize. Dine in only\, no takeout.
URL:https://www.southlandcasino.com/event/trivia-tuesday-2/2025-01-14/
CATEGORIES:Casino Gaming Promos,Dining
ATTACH;FMTTYPE=image/jpeg:https://www.southlandcasino.com/wp-content/uploads/2024/01/Southland-SportsBarGrill-Trivia-Promo.jpg
END:VEVENT
BEGIN:VEVENT
DTSTART;TZID=UTC:20250115T190000
DTEND;TZID=UTC:20250115T210000
DTSTAMP:20260421T065359
CREATED:20240112T003056Z
LAST-MODIFIED:20260326T182022Z
UID:10003998-1736967600-1736974800@www.southlandcasino.com
SUMMARY:Singo at the Betly Sports Bar & Grill
DESCRIPTION:Wednesdays | 7pm – 9pm\nWin up to $100 in food credits! \n 
URL:https://www.southlandcasino.com/event/singo/2025-01-15/
CATEGORIES:Casino Gaming Promos,Dining
ATTACH;FMTTYPE=image/jpeg:https://www.southlandcasino.com/wp-content/uploads/2024/01/Southland-SportsBarGrill-Singo-Promo.jpg
END:VEVENT
BEGIN:VEVENT
DTSTART;TZID=UTC:20250120T190000
DTEND;TZID=UTC:20250120T210000
DTSTAMP:20260421T065359
CREATED:20241230T170931Z
LAST-MODIFIED:20250730T174932Z
UID:10003990-1737399600-1737406800@www.southlandcasino.com
SUMMARY:Betly Sports Bar & Grill - Top Answer
DESCRIPTION:Mondays |  7pm – 9pm \nWin up to $100 in food credits!
URL:https://www.southlandcasino.com/event/betly-sports-bar-grill-top-answer-2/2025-01-20/
CATEGORIES:Casino Gaming Promos,Dining
ATTACH;FMTTYPE=image/jpeg:https://www.southlandcasino.com/wp-content/uploads/2024/01/Southland-SportsBarGrill-LineUp-Promo.jpg
END:VEVENT
BEGIN:VEVENT
DTSTART;TZID=UTC:20250121T190000
DTEND;TZID=UTC:20250121T210000
DTSTAMP:20260421T065359
CREATED:20240329T002355Z
LAST-MODIFIED:20260326T181942Z
UID:10003994-1737486000-1737493200@www.southlandcasino.com
SUMMARY:Tuesday Trivia at Betly Sports Bar & Grill
DESCRIPTION:Tuesdays | 7pm – 9pm\nWin up to $100 in Food Credits! \n\nSign up in the Sports Bar each Tuesday. Must have a Lucky North® Rewards card to receive a prize. Dine in only\, no takeout.
URL:https://www.southlandcasino.com/event/trivia-tuesday-2/2025-01-21/
CATEGORIES:Casino Gaming Promos,Dining
ATTACH;FMTTYPE=image/jpeg:https://www.southlandcasino.com/wp-content/uploads/2024/01/Southland-SportsBarGrill-Trivia-Promo.jpg
END:VEVENT
BEGIN:VEVENT
DTSTART;TZID=UTC:20250122T190000
DTEND;TZID=UTC:20250122T210000
DTSTAMP:20260421T065359
CREATED:20240112T003056Z
LAST-MODIFIED:20260326T182022Z
UID:10003999-1737572400-1737579600@www.southlandcasino.com
SUMMARY:Singo at the Betly Sports Bar & Grill
DESCRIPTION:Wednesdays | 7pm – 9pm\nWin up to $100 in food credits! \n 
URL:https://www.southlandcasino.com/event/singo/2025-01-22/
CATEGORIES:Casino Gaming Promos,Dining
ATTACH;FMTTYPE=image/jpeg:https://www.southlandcasino.com/wp-content/uploads/2024/01/Southland-SportsBarGrill-Singo-Promo.jpg
END:VEVENT
BEGIN:VEVENT
DTSTART;TZID=UTC:20250127T190000
DTEND;TZID=UTC:20250127T210000
DTSTAMP:20260421T065359
CREATED:20241230T170931Z
LAST-MODIFIED:20250730T174932Z
UID:10003991-1738004400-1738011600@www.southlandcasino.com
SUMMARY:Betly Sports Bar & Grill - Top Answer
DESCRIPTION:Mondays |  7pm – 9pm \nWin up to $100 in food credits!
URL:https://www.southlandcasino.com/event/betly-sports-bar-grill-top-answer-2/2025-01-27/
CATEGORIES:Casino Gaming Promos,Dining
ATTACH;FMTTYPE=image/jpeg:https://www.southlandcasino.com/wp-content/uploads/2024/01/Southland-SportsBarGrill-LineUp-Promo.jpg
END:VEVENT
BEGIN:VEVENT
DTSTART;TZID=UTC:20250128T190000
DTEND;TZID=UTC:20250128T210000
DTSTAMP:20260421T065359
CREATED:20240329T002355Z
LAST-MODIFIED:20260326T181942Z
UID:10003995-1738090800-1738098000@www.southlandcasino.com
SUMMARY:Tuesday Trivia at Betly Sports Bar & Grill
DESCRIPTION:Tuesdays | 7pm – 9pm\nWin up to $100 in Food Credits! \n\nSign up in the Sports Bar each Tuesday. Must have a Lucky North® Rewards card to receive a prize. Dine in only\, no takeout.
URL:https://www.southlandcasino.com/event/trivia-tuesday-2/2025-01-28/
CATEGORIES:Casino Gaming Promos,Dining
ATTACH;FMTTYPE=image/jpeg:https://www.southlandcasino.com/wp-content/uploads/2024/01/Southland-SportsBarGrill-Trivia-Promo.jpg
END:VEVENT
BEGIN:VEVENT
DTSTART;TZID=UTC:20250129T190000
DTEND;TZID=UTC:20250129T210000
DTSTAMP:20260421T065359
CREATED:20240112T003056Z
LAST-MODIFIED:20260326T182022Z
UID:10004000-1738177200-1738184400@www.southlandcasino.com
SUMMARY:Singo at the Betly Sports Bar & Grill
DESCRIPTION:Wednesdays | 7pm – 9pm\nWin up to $100 in food credits! \n 
URL:https://www.southlandcasino.com/event/singo/2025-01-29/
CATEGORIES:Casino Gaming Promos,Dining
ATTACH;FMTTYPE=image/jpeg:https://www.southlandcasino.com/wp-content/uploads/2024/01/Southland-SportsBarGrill-Singo-Promo.jpg
END:VEVENT
BEGIN:VEVENT
DTSTART;TZID=UTC:20250203T190000
DTEND;TZID=UTC:20250203T210000
DTSTAMP:20260421T065359
CREATED:20241230T170931Z
LAST-MODIFIED:20250730T174932Z
UID:10004053-1738609200-1738616400@www.southlandcasino.com
SUMMARY:Betly Sports Bar & Grill - Top Answer
DESCRIPTION:Mondays |  7pm – 9pm \nWin up to $100 in food credits!
URL:https://www.southlandcasino.com/event/betly-sports-bar-grill-top-answer-2/2025-02-03/
CATEGORIES:Casino Gaming Promos,Dining
ATTACH;FMTTYPE=image/jpeg:https://www.southlandcasino.com/wp-content/uploads/2024/01/Southland-SportsBarGrill-LineUp-Promo.jpg
END:VEVENT
BEGIN:VEVENT
DTSTART;VALUE=DATE:20250204
DTEND;VALUE=DATE:20250701
DTSTAMP:20260421T065359
CREATED:20250204T154411Z
LAST-MODIFIED:20250514T192441Z
UID:10004084-1738627200-1751327999@www.southlandcasino.com
SUMMARY:The Grind Coffee Bar Monthly Special
DESCRIPTION:Click here to learn about our monthly coffee bar special!
URL:https://www.southlandcasino.com/event/the-grind-coffee-bar-monthly-special/
CATEGORIES:Dining
ATTACH;FMTTYPE=image/jpeg:https://www.southlandcasino.com/wp-content/uploads/2025/02/Southland-CoffeeOfTheMonth_WebPromo_300x250_Feb25_V1-1.jpg
END:VEVENT
BEGIN:VEVENT
DTSTART;TZID=UTC:20250204T190000
DTEND;TZID=UTC:20250204T210000
DTSTAMP:20260421T065359
CREATED:20240329T002355Z
LAST-MODIFIED:20260326T181942Z
UID:10004057-1738695600-1738702800@www.southlandcasino.com
SUMMARY:Tuesday Trivia at Betly Sports Bar & Grill
DESCRIPTION:Tuesdays | 7pm – 9pm\nWin up to $100 in Food Credits! \n\nSign up in the Sports Bar each Tuesday. Must have a Lucky North® Rewards card to receive a prize. Dine in only\, no takeout.
URL:https://www.southlandcasino.com/event/trivia-tuesday-2/2025-02-04/
CATEGORIES:Casino Gaming Promos,Dining
ATTACH;FMTTYPE=image/jpeg:https://www.southlandcasino.com/wp-content/uploads/2024/01/Southland-SportsBarGrill-Trivia-Promo.jpg
END:VEVENT
BEGIN:VEVENT
DTSTART;TZID=UTC:20250205T190000
DTEND;TZID=UTC:20250205T210000
DTSTAMP:20260421T065359
CREATED:20240112T003056Z
LAST-MODIFIED:20260326T182022Z
UID:10004061-1738782000-1738789200@www.southlandcasino.com
SUMMARY:Singo at the Betly Sports Bar & Grill
DESCRIPTION:Wednesdays | 7pm – 9pm\nWin up to $100 in food credits! \n 
URL:https://www.southlandcasino.com/event/singo/2025-02-05/
CATEGORIES:Casino Gaming Promos,Dining
ATTACH;FMTTYPE=image/jpeg:https://www.southlandcasino.com/wp-content/uploads/2024/01/Southland-SportsBarGrill-Singo-Promo.jpg
END:VEVENT
BEGIN:VEVENT
DTSTART;TZID=UTC:20250210T190000
DTEND;TZID=UTC:20250210T210000
DTSTAMP:20260421T065359
CREATED:20241230T170931Z
LAST-MODIFIED:20250730T174932Z
UID:10004054-1739214000-1739221200@www.southlandcasino.com
SUMMARY:Betly Sports Bar & Grill - Top Answer
DESCRIPTION:Mondays |  7pm – 9pm \nWin up to $100 in food credits!
URL:https://www.southlandcasino.com/event/betly-sports-bar-grill-top-answer-2/2025-02-10/
CATEGORIES:Casino Gaming Promos,Dining
ATTACH;FMTTYPE=image/jpeg:https://www.southlandcasino.com/wp-content/uploads/2024/01/Southland-SportsBarGrill-LineUp-Promo.jpg
END:VEVENT
END:VCALENDAR