BEGIN:VCALENDAR
VERSION:2.0
PRODID:-//Southland Casino - ECPv6.15.16//NONSGML v1.0//EN
CALSCALE:GREGORIAN
METHOD:PUBLISH
X-ORIGINAL-URL:https://www.southlandcasino.com
X-WR-CALDESC:Events for Southland Casino
REFRESH-INTERVAL;VALUE=DURATION:PT1H
X-Robots-Tag:noindex
X-PUBLISHED-TTL:PT1H
BEGIN:VTIMEZONE
TZID:UTC
BEGIN:STANDARD
TZOFFSETFROM:+0000
TZOFFSETTO:+0000
TZNAME:UTC
DTSTART:20240101T000000
END:STANDARD
END:VTIMEZONE
BEGIN:VTIMEZONE
TZID:America/Chicago
BEGIN:DAYLIGHT
TZOFFSETFROM:-0600
TZOFFSETTO:-0500
TZNAME:CDT
DTSTART:20240310T080000
END:DAYLIGHT
BEGIN:STANDARD
TZOFFSETFROM:-0500
TZOFFSETTO:-0600
TZNAME:CST
DTSTART:20241103T070000
END:STANDARD
BEGIN:DAYLIGHT
TZOFFSETFROM:-0600
TZOFFSETTO:-0500
TZNAME:CDT
DTSTART:20250309T080000
END:DAYLIGHT
BEGIN:STANDARD
TZOFFSETFROM:-0500
TZOFFSETTO:-0600
TZNAME:CST
DTSTART:20251102T070000
END:STANDARD
BEGIN:DAYLIGHT
TZOFFSETFROM:-0600
TZOFFSETTO:-0500
TZNAME:CDT
DTSTART:20260308T080000
END:DAYLIGHT
BEGIN:STANDARD
TZOFFSETFROM:-0500
TZOFFSETTO:-0600
TZNAME:CST
DTSTART:20261101T070000
END:STANDARD
END:VTIMEZONE
BEGIN:VEVENT
DTSTART;TZID=UTC:20250113T190000
DTEND;TZID=UTC:20250113T210000
DTSTAMP:20260425T095710
CREATED:20241230T170931Z
LAST-MODIFIED:20250730T174932Z
UID:10003989-1736794800-1736802000@www.southlandcasino.com
SUMMARY:Betly Sports Bar & Grill - Top Answer
DESCRIPTION:Mondays |  7pm – 9pm \nWin up to $100 in food credits!
URL:https://www.southlandcasino.com/event/betly-sports-bar-grill-top-answer-2/2025-01-13/
CATEGORIES:Casino Gaming Promos,Dining
ATTACH;FMTTYPE=image/jpeg:https://www.southlandcasino.com/wp-content/uploads/2024/01/Southland-SportsBarGrill-LineUp-Promo.jpg
END:VEVENT
BEGIN:VEVENT
DTSTART;TZID=UTC:20250114T190000
DTEND;TZID=UTC:20250114T210000
DTSTAMP:20260425T095710
CREATED:20240329T002355Z
LAST-MODIFIED:20260326T181942Z
UID:10003993-1736881200-1736888400@www.southlandcasino.com
SUMMARY:Tuesday Trivia at Betly Sports Bar & Grill
DESCRIPTION:Tuesdays | 7pm – 9pm\nWin up to $100 in Food Credits! \n\nSign up in the Sports Bar each Tuesday. Must have a Lucky North® Rewards card to receive a prize. Dine in only\, no takeout.
URL:https://www.southlandcasino.com/event/trivia-tuesday-2/2025-01-14/
CATEGORIES:Casino Gaming Promos,Dining
ATTACH;FMTTYPE=image/jpeg:https://www.southlandcasino.com/wp-content/uploads/2024/01/Southland-SportsBarGrill-Trivia-Promo.jpg
END:VEVENT
BEGIN:VEVENT
DTSTART;TZID=UTC:20250115T080000
DTEND;TZID=UTC:20250115T200000
DTSTAMP:20260425T095710
CREATED:20240112T003820Z
LAST-MODIFIED:20250326T131643Z
UID:10003932-1736928000-1736971200@www.southlandcasino.com
SUMMARY:50 Plus Bonus Giveaway
DESCRIPTION:Wednesdays | 8am – 8pm  Win Up To $25 in Free Play! Lucky North® Rewards 50+ members\, swipe your card for a mystery bonus – up to $25 in Free Play!   Win once per promotional day.
URL:https://www.southlandcasino.com/event/50-plus-bonus-giveaway/2025-01-15/
CATEGORIES:Casino Gaming Promos
ATTACH;FMTTYPE=image/jpeg:https://www.southlandcasino.com/wp-content/uploads/2024/03/Southland-New50Plus-Promo.jpg
END:VEVENT
BEGIN:VEVENT
DTSTART;TZID=UTC:20250115T190000
DTEND;TZID=UTC:20250115T210000
DTSTAMP:20260425T095710
CREATED:20240112T003056Z
LAST-MODIFIED:20260326T182022Z
UID:10003998-1736967600-1736974800@www.southlandcasino.com
SUMMARY:Singo at the Betly Sports Bar & Grill
DESCRIPTION:Wednesdays | 7pm – 9pm\nWin up to $100 in food credits! \n 
URL:https://www.southlandcasino.com/event/singo/2025-01-15/
CATEGORIES:Casino Gaming Promos,Dining
ATTACH;FMTTYPE=image/jpeg:https://www.southlandcasino.com/wp-content/uploads/2024/01/Southland-SportsBarGrill-Singo-Promo.jpg
END:VEVENT
BEGIN:VEVENT
DTSTART;TZID=America/Chicago:20250116T170000
DTEND;TZID=America/Chicago:20250116T220000
DTSTAMP:20260425T095710
CREATED:20241230T165045Z
LAST-MODIFIED:20250225T192918Z
UID:10003979-1737046800-1737064800@www.southlandcasino.com
SUMMARY:Thirsty Thursdays
DESCRIPTION:Thursdays | 5pm – 10pm\n\n27 Winners Guaranteed to win $500 in Free Play. \nEarn 25 points\, get a Free Drink ticket. Earn 75 points\, get one additional Free Drink ticket. \n\nOne drawing entry for every 50 points earned each Thursday. Activate your entries by inserting your Lucky North® Rewards card into any slot machine or carding in at a table game. Max 2 free drink tickets per week.
URL:https://www.southlandcasino.com/event/thirsty-thursdays/2025-01-16/
CATEGORIES:Casino Gaming Promos,Poker Promotion
ATTACH;FMTTYPE=image/jpeg:https://www.southlandcasino.com/wp-content/uploads/2025/01/Southland-ThirstyThursdays-Promo.jpg
END:VEVENT
BEGIN:VEVENT
DTSTART;TZID=America/Chicago:20250117T140000
DTEND;TZID=America/Chicago:20250117T220000
DTSTAMP:20260425T095710
CREATED:20241230T163643Z
LAST-MODIFIED:20241230T163724Z
UID:10003971-1737122400-1737151200@www.southlandcasino.com
SUMMARY:Field Goal Frenzy
DESCRIPTION:Fridays in January | 2pm – 10pm\nOne free entry every Friday.\n\n90 winners are drawn to win their share of $80\,000 in Free Play! \n18 winners per night\, 2 winners every hour win up to $1\,000 in Free Play.
URL:https://www.southlandcasino.com/event/field-goal-frenzy/2025-01-17/
CATEGORIES:Casino Gaming Promos,Poker Promotion
ATTACH;FMTTYPE=image/jpeg:https://www.southlandcasino.com/wp-content/uploads/2024/12/Southland-FieldGoalFrenzy-Promo.jpg
END:VEVENT
BEGIN:VEVENT
DTSTART;TZID=UTC:20250119T143000
DTEND;TZID=UTC:20250119T190000
DTSTAMP:20260425T095710
CREATED:20241118T150954Z
LAST-MODIFIED:20250108T151732Z
UID:10003984-1737297000-1737313200@www.southlandcasino.com
SUMMARY:Blackjack Blitz
DESCRIPTION:Sundays | 2:30pm – 7pm\n\nOne Winner Drawn Every 30 Minutes To Win $1\,000 in Table Free Play! \nEvery day receive a Blackjack Blitz drawing card for every Blackjack you hit. \nDeposit your drawing cards into the drum located at Lucky North® Rewards beginning at 1pm on Sundays. \n\nMust be present to win and may win two times per night. Live table games only. Entries received January 1 – 22.
URL:https://www.southlandcasino.com/event/blackjack-blitz-3/2025-01-19/
CATEGORIES:Casino Gaming Promos
ATTACH;FMTTYPE=image/jpeg:https://www.southlandcasino.com/wp-content/uploads/2024/12/Southland-BlackjackBlitz-Promo.jpg
END:VEVENT
BEGIN:VEVENT
DTSTART;TZID=America/Chicago:20250120T080000
DTEND;TZID=America/Chicago:20250120T220000
DTSTAMP:20260425T095710
CREATED:20241230T164029Z
LAST-MODIFIED:20250108T141627Z
UID:10003975-1737360000-1737410400@www.southlandcasino.com
SUMMARY:Point Multiplier
DESCRIPTION:Mondays in January | 8am – 10pm\nSwipe your Lucky North® Rewards card at any promotion kiosk to reveal your point multiplier. \n\nSimulcast points not eligible for this promotion. Point value is multiplied\, not points. Multiplier points awarded following day.
URL:https://www.southlandcasino.com/event/point-multiplier-2/2025-01-20/
CATEGORIES:Casino Gaming Promos
ATTACH;FMTTYPE=image/jpeg:https://www.southlandcasino.com/wp-content/uploads/2024/12/Southland-PointMultiplier-Promo.jpg
END:VEVENT
BEGIN:VEVENT
DTSTART;TZID=UTC:20250120T190000
DTEND;TZID=UTC:20250120T210000
DTSTAMP:20260425T095710
CREATED:20241230T170931Z
LAST-MODIFIED:20250730T174932Z
UID:10003990-1737399600-1737406800@www.southlandcasino.com
SUMMARY:Betly Sports Bar & Grill - Top Answer
DESCRIPTION:Mondays |  7pm – 9pm \nWin up to $100 in food credits!
URL:https://www.southlandcasino.com/event/betly-sports-bar-grill-top-answer-2/2025-01-20/
CATEGORIES:Casino Gaming Promos,Dining
ATTACH;FMTTYPE=image/jpeg:https://www.southlandcasino.com/wp-content/uploads/2024/01/Southland-SportsBarGrill-LineUp-Promo.jpg
END:VEVENT
BEGIN:VEVENT
DTSTART;VALUE=DATE:20250121
DTEND;VALUE=DATE:20250211
DTSTAMP:20260425T095710
CREATED:20250121T131920Z
LAST-MODIFIED:20250211T131502Z
UID:10004065-1737417600-1739231999@www.southlandcasino.com
SUMMARY:Lucky in Love Valentine’s Sweepstakes
DESCRIPTION:Are you lucky in love? Enter for your chance to win a Southland Casino Hotel package\, including: \n\nA one-night stay on Valentine’s Day – Friday\, February 14\nDinner for two at Ignite Steakhouse\n$100 in Free Play\n\nCelebrate the season of love at Southland!
URL:https://www.southlandcasino.com/event/lucky-in-love-valentines-sweepstakes/
CATEGORIES:Casino Gaming Promos,Sweepstakes
ATTACH;FMTTYPE=image/jpeg:https://www.southlandcasino.com/wp-content/uploads/2025/01/Southland-ValentinesDay_Sweeps_Web_300x250_Jan25_m.jpg
END:VEVENT
BEGIN:VEVENT
DTSTART;TZID=UTC:20250121T190000
DTEND;TZID=UTC:20250121T210000
DTSTAMP:20260425T095710
CREATED:20240329T002355Z
LAST-MODIFIED:20260326T181942Z
UID:10003994-1737486000-1737493200@www.southlandcasino.com
SUMMARY:Tuesday Trivia at Betly Sports Bar & Grill
DESCRIPTION:Tuesdays | 7pm – 9pm\nWin up to $100 in Food Credits! \n\nSign up in the Sports Bar each Tuesday. Must have a Lucky North® Rewards card to receive a prize. Dine in only\, no takeout.
URL:https://www.southlandcasino.com/event/trivia-tuesday-2/2025-01-21/
CATEGORIES:Casino Gaming Promos,Dining
ATTACH;FMTTYPE=image/jpeg:https://www.southlandcasino.com/wp-content/uploads/2024/01/Southland-SportsBarGrill-Trivia-Promo.jpg
END:VEVENT
BEGIN:VEVENT
DTSTART;TZID=UTC:20250122T080000
DTEND;TZID=UTC:20250122T200000
DTSTAMP:20260425T095710
CREATED:20240112T003820Z
LAST-MODIFIED:20250326T131643Z
UID:10003933-1737532800-1737576000@www.southlandcasino.com
SUMMARY:50 Plus Bonus Giveaway
DESCRIPTION:Wednesdays | 8am – 8pm  Win Up To $25 in Free Play! Lucky North® Rewards 50+ members\, swipe your card for a mystery bonus – up to $25 in Free Play!   Win once per promotional day.
URL:https://www.southlandcasino.com/event/50-plus-bonus-giveaway/2025-01-22/
CATEGORIES:Casino Gaming Promos
ATTACH;FMTTYPE=image/jpeg:https://www.southlandcasino.com/wp-content/uploads/2024/03/Southland-New50Plus-Promo.jpg
END:VEVENT
BEGIN:VEVENT
DTSTART;TZID=UTC:20250122T190000
DTEND;TZID=UTC:20250122T210000
DTSTAMP:20260425T095710
CREATED:20240112T003056Z
LAST-MODIFIED:20260326T182022Z
UID:10003999-1737572400-1737579600@www.southlandcasino.com
SUMMARY:Singo at the Betly Sports Bar & Grill
DESCRIPTION:Wednesdays | 7pm – 9pm\nWin up to $100 in food credits! \n 
URL:https://www.southlandcasino.com/event/singo/2025-01-22/
CATEGORIES:Casino Gaming Promos,Dining
ATTACH;FMTTYPE=image/jpeg:https://www.southlandcasino.com/wp-content/uploads/2024/01/Southland-SportsBarGrill-Singo-Promo.jpg
END:VEVENT
BEGIN:VEVENT
DTSTART;TZID=America/Chicago:20250123T170000
DTEND;TZID=America/Chicago:20250123T220000
DTSTAMP:20260425T095710
CREATED:20241230T165045Z
LAST-MODIFIED:20250225T192918Z
UID:10003980-1737651600-1737669600@www.southlandcasino.com
SUMMARY:Thirsty Thursdays
DESCRIPTION:Thursdays | 5pm – 10pm\n\n27 Winners Guaranteed to win $500 in Free Play. \nEarn 25 points\, get a Free Drink ticket. Earn 75 points\, get one additional Free Drink ticket. \n\nOne drawing entry for every 50 points earned each Thursday. Activate your entries by inserting your Lucky North® Rewards card into any slot machine or carding in at a table game. Max 2 free drink tickets per week.
URL:https://www.southlandcasino.com/event/thirsty-thursdays/2025-01-23/
CATEGORIES:Casino Gaming Promos,Poker Promotion
ATTACH;FMTTYPE=image/jpeg:https://www.southlandcasino.com/wp-content/uploads/2025/01/Southland-ThirstyThursdays-Promo.jpg
END:VEVENT
BEGIN:VEVENT
DTSTART;TZID=America/Chicago:20250124T140000
DTEND;TZID=America/Chicago:20250124T220000
DTSTAMP:20260425T095710
CREATED:20241230T163643Z
LAST-MODIFIED:20241230T163724Z
UID:10003972-1737727200-1737756000@www.southlandcasino.com
SUMMARY:Field Goal Frenzy
DESCRIPTION:Fridays in January | 2pm – 10pm\nOne free entry every Friday.\n\n90 winners are drawn to win their share of $80\,000 in Free Play! \n18 winners per night\, 2 winners every hour win up to $1\,000 in Free Play.
URL:https://www.southlandcasino.com/event/field-goal-frenzy/2025-01-24/
CATEGORIES:Casino Gaming Promos,Poker Promotion
ATTACH;FMTTYPE=image/jpeg:https://www.southlandcasino.com/wp-content/uploads/2024/12/Southland-FieldGoalFrenzy-Promo.jpg
END:VEVENT
BEGIN:VEVENT
DTSTART;TZID=UTC:20250126T143000
DTEND;TZID=UTC:20250126T190000
DTSTAMP:20260425T095710
CREATED:20241118T150954Z
LAST-MODIFIED:20250108T151732Z
UID:10003985-1737901800-1737918000@www.southlandcasino.com
SUMMARY:Blackjack Blitz
DESCRIPTION:Sundays | 2:30pm – 7pm\n\nOne Winner Drawn Every 30 Minutes To Win $1\,000 in Table Free Play! \nEvery day receive a Blackjack Blitz drawing card for every Blackjack you hit. \nDeposit your drawing cards into the drum located at Lucky North® Rewards beginning at 1pm on Sundays. \n\nMust be present to win and may win two times per night. Live table games only. Entries received January 1 – 22.
URL:https://www.southlandcasino.com/event/blackjack-blitz-3/2025-01-26/
CATEGORIES:Casino Gaming Promos
ATTACH;FMTTYPE=image/jpeg:https://www.southlandcasino.com/wp-content/uploads/2024/12/Southland-BlackjackBlitz-Promo.jpg
END:VEVENT
BEGIN:VEVENT
DTSTART;TZID=America/Chicago:20250127T080000
DTEND;TZID=America/Chicago:20250127T220000
DTSTAMP:20260425T095710
CREATED:20241230T164029Z
LAST-MODIFIED:20250108T141627Z
UID:10003976-1737964800-1738015200@www.southlandcasino.com
SUMMARY:Point Multiplier
DESCRIPTION:Mondays in January | 8am – 10pm\nSwipe your Lucky North® Rewards card at any promotion kiosk to reveal your point multiplier. \n\nSimulcast points not eligible for this promotion. Point value is multiplied\, not points. Multiplier points awarded following day.
URL:https://www.southlandcasino.com/event/point-multiplier-2/2025-01-27/
CATEGORIES:Casino Gaming Promos
ATTACH;FMTTYPE=image/jpeg:https://www.southlandcasino.com/wp-content/uploads/2024/12/Southland-PointMultiplier-Promo.jpg
END:VEVENT
BEGIN:VEVENT
DTSTART;TZID=UTC:20250127T190000
DTEND;TZID=UTC:20250127T210000
DTSTAMP:20260425T095710
CREATED:20241230T170931Z
LAST-MODIFIED:20250730T174932Z
UID:10003991-1738004400-1738011600@www.southlandcasino.com
SUMMARY:Betly Sports Bar & Grill - Top Answer
DESCRIPTION:Mondays |  7pm – 9pm \nWin up to $100 in food credits!
URL:https://www.southlandcasino.com/event/betly-sports-bar-grill-top-answer-2/2025-01-27/
CATEGORIES:Casino Gaming Promos,Dining
ATTACH;FMTTYPE=image/jpeg:https://www.southlandcasino.com/wp-content/uploads/2024/01/Southland-SportsBarGrill-LineUp-Promo.jpg
END:VEVENT
BEGIN:VEVENT
DTSTART;TZID=UTC:20250128T190000
DTEND;TZID=UTC:20250128T210000
DTSTAMP:20260425T095710
CREATED:20240329T002355Z
LAST-MODIFIED:20260326T181942Z
UID:10003995-1738090800-1738098000@www.southlandcasino.com
SUMMARY:Tuesday Trivia at Betly Sports Bar & Grill
DESCRIPTION:Tuesdays | 7pm – 9pm\nWin up to $100 in Food Credits! \n\nSign up in the Sports Bar each Tuesday. Must have a Lucky North® Rewards card to receive a prize. Dine in only\, no takeout.
URL:https://www.southlandcasino.com/event/trivia-tuesday-2/2025-01-28/
CATEGORIES:Casino Gaming Promos,Dining
ATTACH;FMTTYPE=image/jpeg:https://www.southlandcasino.com/wp-content/uploads/2024/01/Southland-SportsBarGrill-Trivia-Promo.jpg
END:VEVENT
BEGIN:VEVENT
DTSTART;TZID=UTC:20250129T080000
DTEND;TZID=UTC:20250129T200000
DTSTAMP:20260425T095710
CREATED:20240112T003820Z
LAST-MODIFIED:20250326T131643Z
UID:10003934-1738137600-1738180800@www.southlandcasino.com
SUMMARY:50 Plus Bonus Giveaway
DESCRIPTION:Wednesdays | 8am – 8pm  Win Up To $25 in Free Play! Lucky North® Rewards 50+ members\, swipe your card for a mystery bonus – up to $25 in Free Play!   Win once per promotional day.
URL:https://www.southlandcasino.com/event/50-plus-bonus-giveaway/2025-01-29/
CATEGORIES:Casino Gaming Promos
ATTACH;FMTTYPE=image/jpeg:https://www.southlandcasino.com/wp-content/uploads/2024/03/Southland-New50Plus-Promo.jpg
END:VEVENT
BEGIN:VEVENT
DTSTART;TZID=UTC:20250129T190000
DTEND;TZID=UTC:20250129T210000
DTSTAMP:20260425T095710
CREATED:20240112T003056Z
LAST-MODIFIED:20260326T182022Z
UID:10004000-1738177200-1738184400@www.southlandcasino.com
SUMMARY:Singo at the Betly Sports Bar & Grill
DESCRIPTION:Wednesdays | 7pm – 9pm\nWin up to $100 in food credits! \n 
URL:https://www.southlandcasino.com/event/singo/2025-01-29/
CATEGORIES:Casino Gaming Promos,Dining
ATTACH;FMTTYPE=image/jpeg:https://www.southlandcasino.com/wp-content/uploads/2024/01/Southland-SportsBarGrill-Singo-Promo.jpg
END:VEVENT
BEGIN:VEVENT
DTSTART;TZID=America/Chicago:20250130T170000
DTEND;TZID=America/Chicago:20250130T220000
DTSTAMP:20260425T095711
CREATED:20241230T165045Z
LAST-MODIFIED:20250225T192918Z
UID:10003981-1738256400-1738274400@www.southlandcasino.com
SUMMARY:Thirsty Thursdays
DESCRIPTION:Thursdays | 5pm – 10pm\n\n27 Winners Guaranteed to win $500 in Free Play. \nEarn 25 points\, get a Free Drink ticket. Earn 75 points\, get one additional Free Drink ticket. \n\nOne drawing entry for every 50 points earned each Thursday. Activate your entries by inserting your Lucky North® Rewards card into any slot machine or carding in at a table game. Max 2 free drink tickets per week.
URL:https://www.southlandcasino.com/event/thirsty-thursdays/2025-01-30/
CATEGORIES:Casino Gaming Promos,Poker Promotion
ATTACH;FMTTYPE=image/jpeg:https://www.southlandcasino.com/wp-content/uploads/2025/01/Southland-ThirstyThursdays-Promo.jpg
END:VEVENT
BEGIN:VEVENT
DTSTART;TZID=America/Chicago:20250131T140000
DTEND;TZID=America/Chicago:20250131T220000
DTSTAMP:20260425T095711
CREATED:20241230T163643Z
LAST-MODIFIED:20241230T163724Z
UID:10003973-1738332000-1738360800@www.southlandcasino.com
SUMMARY:Field Goal Frenzy
DESCRIPTION:Fridays in January | 2pm – 10pm\nOne free entry every Friday.\n\n90 winners are drawn to win their share of $80\,000 in Free Play! \n18 winners per night\, 2 winners every hour win up to $1\,000 in Free Play.
URL:https://www.southlandcasino.com/event/field-goal-frenzy/2025-01-31/
CATEGORIES:Casino Gaming Promos,Poker Promotion
ATTACH;FMTTYPE=image/jpeg:https://www.southlandcasino.com/wp-content/uploads/2024/12/Southland-FieldGoalFrenzy-Promo.jpg
END:VEVENT
BEGIN:VEVENT
DTSTART;TZID=America/Chicago:20250202T080000
DTEND;TZID=America/Chicago:20250202T220000
DTSTAMP:20260425T095711
CREATED:20250115T143110Z
LAST-MODIFIED:20250310T194445Z
UID:10003771-1738483200-1738533600@www.southlandcasino.com
SUMMARY:Mystery Point Multiplier
DESCRIPTION:Mondays | 8am – 10pm  Swipe your Lucky North® Rewards card at any promotion kiosk to reveal your point multiplier – up to 10X!   Simulcast points not eligible for this promotion. Multiplier points awarded following day.
URL:https://www.southlandcasino.com/event/mystery-point-multiplier-3-2/2025-02-02/
CATEGORIES:Casino Gaming Promos
ATTACH;FMTTYPE=image/jpeg:https://www.southlandcasino.com/wp-content/uploads/2025/01/Southland-MystPointMultiplier10x-Promo.jpg
END:VEVENT
BEGIN:VEVENT
DTSTART;TZID=America/Chicago:20250203T080000
DTEND;TZID=America/Chicago:20250203T220000
DTSTAMP:20260425T095711
CREATED:20250115T143110Z
LAST-MODIFIED:20250310T194445Z
UID:10004026-1738569600-1738620000@www.southlandcasino.com
SUMMARY:Mystery Point Multiplier
DESCRIPTION:Mondays | 8am – 10pm  Swipe your Lucky North® Rewards card at any promotion kiosk to reveal your point multiplier – up to 10X!   Simulcast points not eligible for this promotion. Multiplier points awarded following day.
URL:https://www.southlandcasino.com/event/mystery-point-multiplier-3-2/2025-02-03/
CATEGORIES:Casino Gaming Promos
ATTACH;FMTTYPE=image/jpeg:https://www.southlandcasino.com/wp-content/uploads/2025/01/Southland-MystPointMultiplier10x-Promo.jpg
END:VEVENT
BEGIN:VEVENT
DTSTART;TZID=UTC:20250203T190000
DTEND;TZID=UTC:20250203T210000
DTSTAMP:20260425T095711
CREATED:20241230T170931Z
LAST-MODIFIED:20250730T174932Z
UID:10004053-1738609200-1738616400@www.southlandcasino.com
SUMMARY:Betly Sports Bar & Grill - Top Answer
DESCRIPTION:Mondays |  7pm – 9pm \nWin up to $100 in food credits!
URL:https://www.southlandcasino.com/event/betly-sports-bar-grill-top-answer-2/2025-02-03/
CATEGORIES:Casino Gaming Promos,Dining
ATTACH;FMTTYPE=image/jpeg:https://www.southlandcasino.com/wp-content/uploads/2024/01/Southland-SportsBarGrill-LineUp-Promo.jpg
END:VEVENT
BEGIN:VEVENT
DTSTART;TZID=UTC:20250204T190000
DTEND;TZID=UTC:20250204T210000
DTSTAMP:20260425T095711
CREATED:20240329T002355Z
LAST-MODIFIED:20260326T181942Z
UID:10004057-1738695600-1738702800@www.southlandcasino.com
SUMMARY:Tuesday Trivia at Betly Sports Bar & Grill
DESCRIPTION:Tuesdays | 7pm – 9pm\nWin up to $100 in Food Credits! \n\nSign up in the Sports Bar each Tuesday. Must have a Lucky North® Rewards card to receive a prize. Dine in only\, no takeout.
URL:https://www.southlandcasino.com/event/trivia-tuesday-2/2025-02-04/
CATEGORIES:Casino Gaming Promos,Dining
ATTACH;FMTTYPE=image/jpeg:https://www.southlandcasino.com/wp-content/uploads/2024/01/Southland-SportsBarGrill-Trivia-Promo.jpg
END:VEVENT
BEGIN:VEVENT
DTSTART;TZID=UTC:20250205T080000
DTEND;TZID=UTC:20250205T200000
DTSTAMP:20260425T095711
CREATED:20240112T003820Z
LAST-MODIFIED:20250326T131643Z
UID:10003935-1738742400-1738785600@www.southlandcasino.com
SUMMARY:50 Plus Bonus Giveaway
DESCRIPTION:Wednesdays | 8am – 8pm  Win Up To $25 in Free Play! Lucky North® Rewards 50+ members\, swipe your card for a mystery bonus – up to $25 in Free Play!   Win once per promotional day.
URL:https://www.southlandcasino.com/event/50-plus-bonus-giveaway/2025-02-05/
CATEGORIES:Casino Gaming Promos
ATTACH;FMTTYPE=image/jpeg:https://www.southlandcasino.com/wp-content/uploads/2024/03/Southland-New50Plus-Promo.jpg
END:VEVENT
BEGIN:VEVENT
DTSTART;TZID=UTC:20250205T190000
DTEND;TZID=UTC:20250205T210000
DTSTAMP:20260425T095711
CREATED:20240112T003056Z
LAST-MODIFIED:20260326T182022Z
UID:10004061-1738782000-1738789200@www.southlandcasino.com
SUMMARY:Singo at the Betly Sports Bar & Grill
DESCRIPTION:Wednesdays | 7pm – 9pm\nWin up to $100 in food credits! \n 
URL:https://www.southlandcasino.com/event/singo/2025-02-05/
CATEGORIES:Casino Gaming Promos,Dining
ATTACH;FMTTYPE=image/jpeg:https://www.southlandcasino.com/wp-content/uploads/2024/01/Southland-SportsBarGrill-Singo-Promo.jpg
END:VEVENT
BEGIN:VEVENT
DTSTART;TZID=America/Chicago:20250206T170000
DTEND;TZID=America/Chicago:20250206T220000
DTSTAMP:20260425T095711
CREATED:20241230T165045Z
LAST-MODIFIED:20250225T192918Z
UID:10004079-1738861200-1738879200@www.southlandcasino.com
SUMMARY:Thirsty Thursdays
DESCRIPTION:Thursdays | 5pm – 10pm\n\n27 Winners Guaranteed to win $500 in Free Play. \nEarn 25 points\, get a Free Drink ticket. Earn 75 points\, get one additional Free Drink ticket. \n\nOne drawing entry for every 50 points earned each Thursday. Activate your entries by inserting your Lucky North® Rewards card into any slot machine or carding in at a table game. Max 2 free drink tickets per week.
URL:https://www.southlandcasino.com/event/thirsty-thursdays/2025-02-06/
CATEGORIES:Casino Gaming Promos,Poker Promotion
ATTACH;FMTTYPE=image/jpeg:https://www.southlandcasino.com/wp-content/uploads/2025/01/Southland-ThirstyThursdays-Promo.jpg
END:VEVENT
END:VCALENDAR