BEGIN:VCALENDAR
VERSION:2.0
PRODID:-//Southland Casino - ECPv6.15.16//NONSGML v1.0//EN
CALSCALE:GREGORIAN
METHOD:PUBLISH
X-ORIGINAL-URL:https://www.southlandcasino.com
X-WR-CALDESC:Events for Southland Casino
REFRESH-INTERVAL;VALUE=DURATION:PT1H
X-Robots-Tag:noindex
X-PUBLISHED-TTL:PT1H
BEGIN:VTIMEZONE
TZID:UTC
BEGIN:STANDARD
TZOFFSETFROM:+0000
TZOFFSETTO:+0000
TZNAME:UTC
DTSTART:20240101T000000
END:STANDARD
END:VTIMEZONE
BEGIN:VEVENT
DTSTART;TZID=UTC:20250804T190000
DTEND;TZID=UTC:20250804T210000
DTSTAMP:20260421T102042
CREATED:20241230T170931Z
LAST-MODIFIED:20250730T174932Z
UID:10005139-1754334000-1754341200@www.southlandcasino.com
SUMMARY:Betly Sports Bar & Grill - Top Answer
DESCRIPTION:Mondays |  7pm – 9pm \nWin up to $100 in food credits!
URL:https://www.southlandcasino.com/event/betly-sports-bar-grill-top-answer-2/2025-08-04/
CATEGORIES:Casino Gaming Promos,Dining
ATTACH;FMTTYPE=image/jpeg:https://www.southlandcasino.com/wp-content/uploads/2024/01/Southland-SportsBarGrill-LineUp-Promo.jpg
END:VEVENT
END:VCALENDAR