BEGIN:VCALENDAR
VERSION:2.0
PRODID:-//Southland Casino - ECPv6.15.16//NONSGML v1.0//EN
CALSCALE:GREGORIAN
METHOD:PUBLISH
X-ORIGINAL-URL:https://www.southlandcasino.com
X-WR-CALDESC:Events for Southland Casino
REFRESH-INTERVAL;VALUE=DURATION:PT1H
X-Robots-Tag:noindex
X-PUBLISHED-TTL:PT1H
BEGIN:VTIMEZONE
TZID:America/Chicago
BEGIN:DAYLIGHT
TZOFFSETFROM:-0600
TZOFFSETTO:-0500
TZNAME:CDT
DTSTART:20240310T080000
END:DAYLIGHT
BEGIN:STANDARD
TZOFFSETFROM:-0500
TZOFFSETTO:-0600
TZNAME:CST
DTSTART:20241103T070000
END:STANDARD
BEGIN:DAYLIGHT
TZOFFSETFROM:-0600
TZOFFSETTO:-0500
TZNAME:CDT
DTSTART:20250309T080000
END:DAYLIGHT
BEGIN:STANDARD
TZOFFSETFROM:-0500
TZOFFSETTO:-0600
TZNAME:CST
DTSTART:20251102T070000
END:STANDARD
BEGIN:DAYLIGHT
TZOFFSETFROM:-0600
TZOFFSETTO:-0500
TZNAME:CDT
DTSTART:20260308T080000
END:DAYLIGHT
BEGIN:STANDARD
TZOFFSETFROM:-0500
TZOFFSETTO:-0600
TZNAME:CST
DTSTART:20261101T070000
END:STANDARD
END:VTIMEZONE
BEGIN:VEVENT
DTSTART;VALUE=DATE:20250801
DTEND;VALUE=DATE:20251102
DTSTAMP:20260419T100155
CREATED:20250729T201726Z
LAST-MODIFIED:20250909T153844Z
UID:10005132-1754006400-1762041599@www.southlandcasino.com
SUMMARY:What The Truck
DESCRIPTION:September & October\nGrand Prize Drawing | Saturday\, November 1\n\n250 Points = 1 Entry \nEarn and print max 10 entries daily! \nGrand Prize Drawing | Saturday\, November 1 | 6pm – 10pm \n50 Winners are drawn to win share of $60\,000 Free Play or a 2025 Kenworth Truck & Trailer.
URL:https://www.southlandcasino.com/event/what-the-truck/
CATEGORIES:Promotions
ATTACH;FMTTYPE=image/jpeg:https://www.southlandcasino.com/wp-content/uploads/2025/08/GSOU7477_WhatTheTruck_WebPromo_300x250_Aug25_v1.jpg
END:VEVENT
BEGIN:VEVENT
DTSTART;VALUE=DATE:20250901
DTEND;VALUE=DATE:20251001
DTSTAMP:20260419T100155
CREATED:20250829T134721Z
LAST-MODIFIED:20250829T134721Z
UID:10005169-1756684800-1759276799@www.southlandcasino.com
SUMMARY:The Fry House September Special
DESCRIPTION:Cajun Gator Fry Stack | $18 \nSeasoned fries topped with crispy fried gator bites\, smoky Cajun remoulade\, charred corn salsa\, and scallions.
URL:https://www.southlandcasino.com/event/the-fry-house-september-special/
CATEGORIES:Dining
ATTACH;FMTTYPE=image/jpeg:https://www.southlandcasino.com/wp-content/uploads/2025/08/GSOU7477_FryHouse_Sept_WebPromo_300x250_Aug25_v1.jpg
END:VEVENT
BEGIN:VEVENT
DTSTART;VALUE=DATE:20250901
DTEND;VALUE=DATE:20251001
DTSTAMP:20260419T100155
CREATED:20250829T134818Z
LAST-MODIFIED:20250829T134818Z
UID:10005168-1756684800-1759276799@www.southlandcasino.com
SUMMARY:Seasons Cafe September Specials
DESCRIPTION:Pumpkin Spice Pancakes | $13.50\nSpiced pumpkin pancakes served with maple pecan butter and a drizzle of warm sorghum syrup. \nApple Cider Biscuit Bowl | $12\nBiscuit pieces layered with spiced apples\, granola\, and a dollop of whipped cream.
URL:https://www.southlandcasino.com/event/seasons-cafe-september-specials/
CATEGORIES:Dining
ATTACH;FMTTYPE=image/jpeg:https://www.southlandcasino.com/wp-content/uploads/2025/08/GSOU7477_Seasons_Web-Promo-300x250_Aug25_v1.jpg
END:VEVENT
BEGIN:VEVENT
DTSTART;VALUE=DATE:20250901
DTEND;VALUE=DATE:20251001
DTSTAMP:20260419T100155
CREATED:20250829T134915Z
LAST-MODIFIED:20250829T134915Z
UID:10005167-1756684800-1759276799@www.southlandcasino.com
SUMMARY:The Grind September Special
DESCRIPTION:Maple Spice Latte \n\nEspresso blended with steamed milk and maple syrup\, topped with whipped cream\, a sprinkle of cinnamon\, and a drizzle of maple syrup. \nRegular | $5.50     Large | $6.50
URL:https://www.southlandcasino.com/event/the-grind-september-special/
CATEGORIES:Dining
ATTACH;FMTTYPE=image/jpeg:https://www.southlandcasino.com/wp-content/uploads/2025/08/GSOU7477_Grind_Sept_WebPromo_300x250_Aug25_v1.jpg
END:VEVENT
BEGIN:VEVENT
DTSTART;TZID=America/Chicago:20250926T180000
DTEND;TZID=America/Chicago:20250926T220000
DTSTAMP:20260419T100155
CREATED:20250729T201303Z
LAST-MODIFIED:20250829T162903Z
UID:10005166-1758909600-1758924000@www.southlandcasino.com
SUMMARY:Safecracker Royale
DESCRIPTION:Fridays | 6pm – 10pm\n\n250 Points= 1 Entry (Max 4)\nTest your spy skills and crack the safe to win $7\,000 cash! \nSecond Chance Drawing | 10:30pm\n7 names drawn to win $1\,000 Free Play! Free Play doubles if no one cracks the safe. All winners receive an Agent 7 Operation finalist ticket. \nEarn entries beginning at 8am. Simulcast points not eligible for this promotion.
URL:https://www.southlandcasino.com/event/safecracker-royale/2025-09-26/
CATEGORIES:Promotions
ATTACH;FMTTYPE=image/jpeg:https://www.southlandcasino.com/wp-content/uploads/2025/08/GSOU7477_SafecrackerRoyale__Web-Promo_300x250__Aug25_v1.jpg
END:VEVENT
BEGIN:VEVENT
DTSTART;TZID=America/Chicago:20250926T190000
DTEND;TZID=America/Chicago:20250926T210000
DTSTAMP:20260419T100155
CREATED:20250917T154619Z
LAST-MODIFIED:20250917T183506Z
UID:10005239-1758913200-1758920400@www.southlandcasino.com
SUMMARY:Delta River Cruisin'
DESCRIPTION:Friday\, September 26 We’re thrilled to announce the return of the Mid-South’s largest car show in partnership with Southland Casino Hotel. With over 1\,000 cars (1993 and older)\, door prizes\, swap meet\, vendors\, and cash prizes\, this is one not to miss. We can’t wait to see you there! HeSaid SheSaid concert on Friday\, September 26 from 7pm-9pm in the tent.  
URL:https://www.southlandcasino.com/event/delta-river-cruisin/
CATEGORIES:Events
ATTACH;FMTTYPE=image/jpeg:https://www.southlandcasino.com/wp-content/uploads/2025/09/GSOU7533_DeltaRiverCruisinCarShow_WebPromo_300x250_Sept25_V1.jpg
END:VEVENT
END:VCALENDAR