BEGIN:VCALENDAR
VERSION:2.0
PRODID:-//Southland Casino - ECPv6.15.16//NONSGML v1.0//EN
CALSCALE:GREGORIAN
METHOD:PUBLISH
X-WR-CALNAME:Southland Casino
X-ORIGINAL-URL:https://www.southlandcasino.com
X-WR-CALDESC:Events for Southland Casino
REFRESH-INTERVAL;VALUE=DURATION:PT1H
X-Robots-Tag:noindex
X-PUBLISHED-TTL:PT1H
BEGIN:VTIMEZONE
TZID:UTC
BEGIN:STANDARD
TZOFFSETFROM:+0000
TZOFFSETTO:+0000
TZNAME:UTC
DTSTART:20230101T000000
END:STANDARD
END:VTIMEZONE
BEGIN:VEVENT
DTSTART;VALUE=DATE:20240111
DTEND;VALUE=DATE:20240201
DTSTAMP:20260420T094033
CREATED:20240112T021041Z
LAST-MODIFIED:20240112T021041Z
UID:10000639-1704931200-1706745599@www.southlandcasino.com
SUMMARY:Start Earning Points on Electronic Table Games!
DESCRIPTION:For table action beyond the felt\, try your hand at virtual blackjack\, digital craps\, and interactive video roulette. Earn points playing while you wager against other players from the privacy of your own screen with our personal gaming terminals. Bubble Craps? Casino Wizard? Golden Roulette? We’ve got all your favorites here! \nAnd\, if you’re ready to take table play to the next level\, check out our stadium gaming. Enjoy craps\, roulette\, and blackjack with a dozen seats and multiple ways to win in an interactive digital format. Play one\, two\, or all three games at once\, with: \n\nNo chips to rake\nNo dice to toss\nNo cards to handle\n\nPlay stadium games on your own or with a group for even more fun. Pick your game\, place your wager\, and try your luck! \nThese games will not redeem Free Play\, points\, or marketing offers.
URL:https://www.southlandcasino.com/event/earn-points-electronic-table-games/
ATTACH;FMTTYPE=image/jpeg:https://www.southlandcasino.com/wp-content/uploads/2024/01/Southland-ElectronicTableGamesPoints-promo.jpg
END:VEVENT
BEGIN:VEVENT
DTSTART;VALUE=DATE:20240111
DTEND;VALUE=DATE:20240201
DTSTAMP:20260420T094033
CREATED:20240112T021401Z
LAST-MODIFIED:20240112T021401Z
UID:10000640-1704931200-1706745599@www.southlandcasino.com
SUMMARY:Give The Original Wheel of Fortune A Spin!
DESCRIPTION:Enjoy 2 New Wide Area Progressive Machines!\nYour luck is spinning round and round here at Southland Casino Hotel! Take a spin on the original wheel with these wide area progressive machines that are linked across multiple casinos throughout the country. That means more chances for the jackpot to grow to 6 or even 7 figures in size! \nGet spinning at Southland today!
URL:https://www.southlandcasino.com/event/wheel-of-fortune-wide-area-progressives/
ATTACH;FMTTYPE=image/jpeg:https://www.southlandcasino.com/wp-content/uploads/2024/01/Southland-WheelofFortune-Promo.jpg
END:VEVENT
BEGIN:VEVENT
DTSTART;VALUE=DATE:20240111
DTEND;VALUE=DATE:20240201
DTSTAMP:20260420T094033
CREATED:20240112T021643Z
LAST-MODIFIED:20240112T021643Z
UID:10000641-1704931200-1706745599@www.southlandcasino.com
SUMMARY:Dragon Den
DESCRIPTION:Ignite your gaming thrills at the Dragon’s Den!\nSpark up your gameplay excitement by entering the Dragon’s Den at Southland Casino Hotel! Play 38 progressive Dragon Links games all in one area! \nMust be 21+. Play responsibly; for help quitting call 800-522-4700
URL:https://www.southlandcasino.com/event/dragon-den/
ATTACH;FMTTYPE=image/jpeg:https://www.southlandcasino.com/wp-content/uploads/2024/01/Southland-DragonsDen-Promo.jpg
END:VEVENT
BEGIN:VEVENT
DTSTART;TZID=UTC:20240125T110000
DTEND;TZID=UTC:20240125T200000
DTSTAMP:20260420T094033
CREATED:20240112T015553Z
LAST-MODIFIED:20240120T014237Z
UID:10000634-1706180400-1706212800@www.southlandcasino.com
SUMMARY:The Kitchens $15 Off A Buffet
DESCRIPTION:Lucky North® Club members who earn 1 point between 8am-2pm\, can swipe at any promotion kiosk to activate offer. *Must present Lucky North® Club card and ID at the buffet. Redeem only 1 offer per promotional day. Must purchase with cash\, credit/debit\, or points. Cannot be combined with comps\, tier discount\, or other food coupons or promotions. Tax and gratuity not included.
URL:https://www.southlandcasino.com/event/kitchens-buffet-15-off-special/2024-01-25/
ATTACH;FMTTYPE=image/jpeg:https://www.southlandcasino.com/wp-content/uploads/2024/01/Southland-Kitchens-LuckyYou-Promo.jpg
END:VEVENT
BEGIN:VEVENT
DTSTART;TZID=UTC:20240125T170000
DTEND;TZID=UTC:20240125T220000
DTSTAMP:20260420T094033
CREATED:20240112T005513Z
LAST-MODIFIED:20240131T015933Z
UID:10000611-1706202000-1706220000@www.southlandcasino.com
SUMMARY:Thirsty Thursday Drawings
DESCRIPTION:27 winners guaranteed to win $500 cash!\nEarn 25 points\, get One Free Drink ticket. \nEarn 75 points\, get one additional One Free Drink ticket. \nLive entertainment every Thursday in Chairman’s Bar\, 6pm-10pm. \nOne drawing entry for every 50 points earned each Thursday. Max 2 free drink tickets per week.
URL:https://www.southlandcasino.com/event/thirsty-thursday-drawings/2024-01-25/
ATTACH;FMTTYPE=image/jpeg:https://www.southlandcasino.com/wp-content/uploads/2024/01/Southland-ThirstyThursday-Promo.jpg
END:VEVENT
END:VCALENDAR